Workbook
Name List_of_Status: #REF!

Sheet Component Supply Chain Chart_N
A1: Please fill the form in English! | G1: Component Supply Chain Chart (CSCC) / Production process and product approval status (PPA) of supply chain
A2: Supplier Name (Tier 2): | K2: Supplier No:
A3: Supplier Plant (Tier 2): | K3: issued by:
A4: Part Name: | K4: date:
A5: Part No.:
F6: Manufacturing Steps / Supplies | H6: Manufacturing Plant / Supplier | N6: Further Information about Tier N supplier for all parts
A7: Tier 2 | B7: Tier 3 | C7: Tier 4 | D7: Tier 5 | E7: Tier 6…N | F7: Supplies (i.e. raw material, components) | G7: Manufacturing Step | H7: Supplier Name | I7: Plant Name | J7: Country | K7: Postal Code | L7: State, City | M7: Street | N7: status of release (released, limited release) | O7: quality management certification | P7: level of innovation | Q7: special characteristics affected? | R7: Bosch directed buy? | S7: Critical processes affected? (e.g. CQI 9, 11, 12, 15, 17, 23, 27, 29, 30, others) | T7: notes / remarks:
S8: =IF(NOT(ISBLANK(G8)),VLOOKUP(G8,'Document Change History_N'!A$20:B$57,2),"")
S9: =IF(NOT(ISBLANK(G9)),VLOOKUP(G9,'Document Change History_N'!A$20:B$57,2),"")
S10: =IF(NOT(ISBLANK(G10)),VLOOKUP(G10,'Document Change History_N'!A$20:B$57,2),"")
S11: =IF(NOT(ISBLANK(G11)),VLOOKUP(G11,'Document Change History_N'!A$20:B$57,2),"")
S12: =IF(NOT(ISBLANK(G12)),VLOOKUP(G12,'Document Change History_N'!A$20:B$57,2),"")
S13: =IF(NOT(ISBLANK(G13)),VLOOKUP(G13,'Document Change History_N'!A$20:B$57,2),"")
S14: =IF(NOT(ISBLANK(G14)),VLOOKUP(G14,'Document Change History_N'!A$20:B$57,2),"")
S15: =IF(NOT(ISBLANK(G15)),VLOOKUP(G15,'Document Change History_N'!A$20:B$57,2),"")
S16: =IF(NOT(ISBLANK(G16)),VLOOKUP(G16,'Document Change History_N'!A$20:B$57,2),"")
S17: =IF(NOT(ISBLANK(G17)),VLOOKUP(G17,'Document Change History_N'!A$20:B$57,2),"")
S18: =IF(NOT(ISBLANK(G18)),VLOOKUP(G18,'Document Change History_N'!A$20:B$57,2),"")
S19: =IF(NOT(ISBLANK(G19)),VLOOKUP(G19,'Document Change History_N'!A$20:B$57,2),"")
... S50: =IF(NOT(ISBLANK(G50)),VLOOKUP(G50,'Document Change History_N'!A$20:B$57,2),"")

Sheet CSCC Explanation_N
A1: Component Supply Chain Chart (CSCC) / Production process and product approval status (PPA) of supply chain
A2: General Information:
A3: Purpose: | C3: What do we need to know? | E3: When do we need to have this information? | I3: Which form has to be filled? | L3: Whom to ask in case of questions? | O3: What happens when the form is not filled?
A4: Some of our quality issues are not caused by our immediate suppliers, but somewhere in the supply chain before. Therefore attention to all levels of the supply chain is needed in order to detect risks early on and act upon them accordingly. | C4: We need to know the supply chain for all manufacturing steps / supplies: - who is supplying you, - who is supplying your supplier, - which manufacturing steps are done outside your production area - which manufacturing steps are done inside your production area etc. | E4: We will ask for this information early on either within technical meetings or with our request for confirmation of feasibility. | I4: The form is called "Component Supply Chain Chart" and is included in this document as a separate sheet; explanations are included as well. | L4: In case of any questions, please do not hesitate to contact your Supplier Quality Engineer. | O4: The final CSCC must be provided latest with the PPA/PPAP documents. If this is not the case or information is missing, we will not release.
A5: How to complete the form:
A6: Please fill the form in English! | G6: Component Supply Chain Chart (CSCC) / Production process and product approval status (PPA) of supply chain
A7: Supplier Name (Tier 2): | K7: Supplier No:
A8: Supplier Plant (Tier 2): | K8: issued by:
A9: Part Name: | K9: date:
A10: Part No.:
F11: Manufacturing Steps / Supplies | H11: Manufacturing Plant / Supplier | N11: Further Information about Tier N supplier for all parts
A12: Tier 2 | B12: Tier 3 | C12: Tier 4 | D12: Tier 5 | E12: Tier 6…N | F12: Supplies (i.e. raw material, components) | G12: Manufacturing Step | H12: Supplier Name | I12: Plant Name | J12: Country | K12: Postal Code | L12: State, City | M12: Street | N12: status of release (released, limited release) | O12: quality management certification | P12: level of innovation | Q12: special characteristics affected? | R12: Bosch directed buy? | S12: Critical processes affected? (e.g. CQI 9, 11, 12, 15, 17, 23, 27, 29, 30, others) | T12: notes / remarks:

Sheet Document Change History_N
A1: Process Q2E2.1 Preventive Quality & Release
A3: Document Change History
A5: Version | B5: Date | C5: Reference | D5: Description of Change | E5: Status | F5: Released by
A6: 1.0 | B6: 41670 | C6: CP/PPS-ST Güldener | D6: Initial creation of template | E6: Invalid | F6: CP/GLS
A7: 2.0 | B7: 42397 | C7: CP/PPS-ST | D7: Addition of questions regarding: - Quality Management Certification - Level of Iinnovation - Affected Critical Processes (e.g. CQI 9, 11, 12, 15, 17, 23, others) REMARK: explanations are updated accordingly | E7: Invalid | F7: CP/TQ Rein
A8: 3.0 | B8: 42978 | C8: CP/PDA Güldener | D8: T&R 1540: addition of IATF 16949 as certification | E8: Invalid | F8: PO
A9: 4.0 | B9: 43145 | C9: CP/PMQ Gueldener | D9: T&R 2149: addition of two cloumns to support supplier risk management - postal code - street | E9: Invalid | F9: PO
A10: 5.0 | B10: 43717 | C10: M/PMQ - Gueldener | D10: T&R 3588: - delete ISO/TS 16949 - change header of column G from "Special & Inspection Characteristics affectedt?" to "Special Characteristics affected?" - change logic for filling: x for each step or supply, visualizing the supply chain adding columns for "supplies" "manufacturing step" provide dropdown for "manufacturing steps" - column H: add CQI 27 casting | E10: invalid | F10: PO
A11: 6.0 | B11: 44950 | C11: M/PMQ-Gueldener | D11: T&R 8344: delete: (TSC) delete in explanations (2 places): In case of confidentiality issues, it is allowed to use a subsequent numbering for the identification of a supplier (i.e. code (s)for supplier name, plant name country state/city possible); add: update CQI numbers | E11: invalid
A12: 7.0 | B12: 45127 | C12: M/PMQ2-Güldener | D12: T&R 9088: delete: issue no. (behind part number) add comment: please fill in English restrict entry for part number to 10 digit | E12: invalid | F12: PO, PM
A13: 8.0 | B13: 45576 | C13: M/PMQ2-Reinhold | D13: T&R 10367: increase scope of application of CSCC to adapt to legislative requirements | E13: invalid | F13: PO, PM, GLS
A14: 9.0 | B14: 45664 | C14: M/PQM2-Reinhold | D14: T&R 10581: update of function/roles update of process number | E14: invalid | F14: PO, PM
A15: 9.1 | B15: 45699 | C15: M/PQM2-Reinhold | D15: UBKPURPRM-10657: Update of CSCC explanation for ingredients defined in the specification until source | E15: invalid | F15: PO,PM
A16: 9.2 | B16: 45896 | C16: M/PQM2-Reinhold | D16: T&R 11516: Conditional formatting rule corrections, updated CSCC explanation on PCB release status definitions and added Critical process is not applicable note | E16: invalid | F16: PO,PM
A17: 9.3 | B17: 46036 | C17: M/PQM2-Reinhold | D17: T&R 12049: Pre-filled of critical processes depending on selected manufacturing step | E17: Released | F17: PO,PM
A19: first fields for CSCC 06.09.2019
A20: assemble | E20: CQI-8 | G20: Layered Process Audit Guideline
A21: brazing | B21: CQI-29
A22: casting | B22: CQI-27 | E22: CQI-9 | F22: Wärmebehandlung | G22: Special Process: Heat Treat System Assessment
A23: cleaning | E23: CQI-11 | F23: galvanische Beschichtung | G23: Special Process: Plating System Assessment
A24: coating | B24: CQI-12 | E24: CQI-12 | F24: Oberflächenbeschichtung | G24: Special Process: Coating System Assessment
A25: compounding | E25: CQI-14 | G25: Automotive Warranty Assessment
A26: crimping | E26: CQI-15 | F26: Schweißprozesse | G26: Special Process: Welding System Assessment
A27: cutting | E27: CQI-17 | F27: Weich-Lötprozesse | G27: Special Process: Electronic Assembly Manufacturing - Soldering
A28: deburring | E28: CQI-18 | G28: Effective Error-Proofing
A29: embossing | E29: CQI-19 | G29: Sub-Tier Supplier Management Process
A30: extrusion | E30: CQI-20 | G30: Effective Problem Solving Guide
A31: filling | E31: CQI-22 | G31: Cost of Poor Quality Guide
A32: foaming | E32: CQI-23 | F32: Kunststoff-Formprozesse | G32: Special Process: Molding System Assessment
A33: forging | E33: CQI-24 | G33: Design Review Based on Failure Modes
A34: forming | E34: CQI-25 | G34: SPC QuickStart Guide
A35: glueing | E35: CQI-27 | G35: Special Process: Casting System Assessment
A36: heat treatment | B36: CQI-9 | E36: CQI-26 | G36: SPC Short Run Supplement
A37: impregnation | E37: CQI-28 | G37: AIAG Traceability Guideline
A38: inspection | E38: CQI-29 | F38: Hartlötprozesse | G38: Special Process: Brazing System Assessment
A39: laminating | E39: CQI-30 | G39: Special Process: Rubber Processing System Assessment
A40: machining | E40: CQI-32 | G40: Bar Steel System Questionnaire
A41: molding | B41: CQI-23 | E41: XD-CQI-33 | G41: 3D Model Technical Data Package Exchange Guideline
A42: mounting | E42: CQI-34 | G42: Software Assureance Approval Process SwAAP
A43: others | E43: CQI-35 | G43: Wiring Harness Quality Guidline
...
