Workbook
Name CalculationQualities: [1]Assumptions!$I$5:$I$6
Name CalculationQualities: [2]Assumptions!$I$5:$I$6
Name CalculationQualities: Assumptions!$I$5:$I$6
Name CarbonTax: Summary!$Q$43
Name CylceTimeUnit: [1]Assumptions!$J$5:$J$7
Name CylceTimeUnit: [2]Assumptions!$J$5:$J$7
Name CylceTimeUnit: Assumptions!$J$5:$J$7
Name Dropdown: Languages!$B$301:$B$317
Name InterestOnMaterialStock: Summary!$Q$19
Name InterestOnWorkInProgress: Summary!$Q$31
Name ManufacturingComment: 'Manufacturing (6,7,8,9)'!$D$34
Name MaterialCarbonFootprintOverhead: Summary!$V$18
Name MaterialCarbonFootprintOverheadRate: Summary!$U$18
Name MaterialClass: [1]Assumptions!$H$5:$H$6
Name MaterialClass: #REF!
Name MaterialClass: Assumptions!$H$5:$H$6
Name MaterialComment: 'Material (1,2,3)'!$E$34
Name MaterialScrap: Summary!$Q$17
Name MaterialScrapCarbonFootprint: Summary!$V$17
Name MOV: Summary!$Q$18
Name OtherCarbonFootprint: Summary!$V$38
Name OtherCosts: Summary!$Q$38
Name PlantCarbonFootprint: Summary!$V$36
Name Profit: Summary!$Q$40
Name PurchasedPart: Assumptions!$H$6
Name PurchasingCurrency: [1]Assumptions!$D$5:$D$53
Name PurchasingCurrency: #REF!
Name PurchasingCurrency: Assumptions!$D$5:$D$53
Name PurchasingUnit: [1]Assumptions!$G$5:$G$30
Name PurchasingUnit: [3]Assumption!$G$5:$G$30
Name PurchasingUnit: Assumptions!$G$5:$G$30
Name QuotationCurrency: [1]Assumptions!$B$5:$B$53
Name QuotationCurrency: #REF!
Name QuotationCurrency: Assumptions!$B$5:$B$53
Name QuotationUnit: [1]Assumptions!$F$5:$F$30
Name QuotationUnit: #REF!
Name QuotationUnit: Assumptions!$F$5:$F$30
Name RawMaterial: [1]Assumptions!$H$5
Name RawMaterial: #REF!
Name RawMaterial: Assumptions!$H$5
Name ResearchAndDevelopmentCostRate: Summary!$P$37
Name ResearchAndDevelopmentCosts: Summary!$Q$37
Name Rough: [1]Assumptions!$I$6
Name Rough: #REF!
Name Rough: Assumptions!$I$6
Name SalesAndGeneralAdministrationCostRate: Summary!$P$36
Name SalesAndGeneralAdministrationCosts: Summary!$Q$36
Name SpecificDevelopmentCostsAllocated: Summary!$Q$35
Name SpecificdevelopmentCostsOnetimePayments: Summary!$Q$48
Name TermsOfPayment: Summary!$Q$41
Name ToolsComment: 'Tools and Devices (16,24)'!$D$36
Name TransportCarbonFootprint: Summary!$V$42
Name TransportDuties: Summary!$Q$42
Name Wording: [1]Languages!$C$2:$C$10
Name Wording: #REF!
Name Wording: Languages!$C$2:$C$10

Sheet Summary
F3: =VLOOKUP("a",Languages!A:J,VLOOKUP($X$6,Languages!$C$2:$D$10,2,FALSE),FALSE) -> BOSCH Material and Process Evaluation (MPE) | V3: =VLOOKUP("b",Languages!A:J,VLOOKUP($X$6,Languages!$C$2:$D$10,2,FALSE),FALSE) -> Summary
W5: Version | X5: 4.1 | AA5: ="This Siemens CBD AddIn is only compatible with Siemens CBD Excel Template v"&X5 -> This Siemens CBD AddIn is only compatible with Siemens CBD Excel Template v4.1
W6: Language | X6: English | AA6: ="CBD Import - Supplier: " &O7 -> CBD Import - Supplier:
G7: =VLOOKUP("0.1",Languages!A:J,VLOOKUP($X$6,Languages!$C$2:$D$10,2,FALSE),FALSE) -> Supplier | Q7: =VLOOKUP("0.01",Languages!A:J,VLOOKUP($X$6,Languages!$C$2:$D$10,2,FALSE),FALSE) -> Field | T7: =VLOOKUP("0.5",Languages!A:J,VLOOKUP($X$6,Languages!$C$2:$D$10,2,FALSE),FALSE) -> Project | AA7: =T7&": "&V7&" "&T10&": "&TEXT(V10,"TT.MM.JJJJ")&" "&G8&": "&O8&" "&G9&": "&O9&" "&G10&": "&O10&" "&C16&": "&D16&" "&C17&": "&D17&" "&C24&": "&D24&" "&C25&": "&D25&" "&C26&": "&D26&" "&C27&": "&D27&" "&C28&": "&D28&" "&C29&": "&D29 -> Project: Quotation date: 00.01.1900 Contact person: E-Mail: Telephone: Manufacturing lot size: Production site: : : : : : :
G8: =VLOOKUP("0.2",Languages!A:J,VLOOKUP($X$6,Languages!$C$2:$D$10,2,FALSE),FALSE) -> Contact person | Q8: =VLOOKUP("0.02",Languages!A:J,VLOOKUP($X$6,Languages!$C$2:$D$10,2,FALSE),FALSE) -> Level 1 | T8: =VLOOKUP("0.6",Languages!A:J,VLOOKUP($X$6,Languages!$C$2:$D$10,2,FALSE),FALSE) -> Part number
G9: =VLOOKUP("0.3",Languages!A:J,VLOOKUP($X$6,Languages!$C$2:$D$10,2,FALSE),FALSE) -> E-Mail | Q9: =VLOOKUP("0.03",Languages!A:J,VLOOKUP($X$6,Languages!$C$2:$D$10,2,FALSE),FALSE) -> Level 2 | T9: =VLOOKUP("0.7",Languages!A:J,VLOOKUP($X$6,Languages!$C$2:$D$10,2,FALSE),FALSE) -> Part name
G10: =VLOOKUP("0.4",Languages!A:J,VLOOKUP($X$6,Languages!$C$2:$D$10,2,FALSE),FALSE) -> Telephone | Q10: =VLOOKUP("0.04",Languages!A:J,VLOOKUP($X$6,Languages!$C$2:$D$10,2,FALSE),FALSE) -> calculated | T10: =VLOOKUP("0.8",Languages!A:J,VLOOKUP($X$6,Languages!$C$2:$D$10,2,FALSE),FALSE) -> Quotation date
B12: =VLOOKUP("0.9",Languages!A:J,VLOOKUP($X$6,Languages!$C$2:$D$10,2,FALSE),FALSE) -> Premises | P12: Costs | U12: Carbon footprint
P13: % | Q13: =D18&" "&VLOOKUP(13.3,Languages!A:J,VLOOKUP($X$6,Languages!$C$2:$D$10,2,FALSE),FALSE) -> /unit | R13: =VLOOKUP("0.25",Languages!A:J,VLOOKUP($X$6,Languages!$C$2:$D$10,2,FALSE),FALSE) -> Fraction | U13: % | V13: ="kg Co2e"&" "&VLOOKUP(13.3,Languages!A:J,VLOOKUP($X$6,Languages!$C$2:$D$10,2,FALSE),FALSE) -> kg Co2e /unit | W13: =VLOOKUP("0.25",Languages!A:J,VLOOKUP($X$6,Languages!$C$2:$D$10,2,FALSE),FALSE) -> Fraction
C14: =VLOOKUP("0.10",Languages!A:J,VLOOKUP($X$6,Languages!$C$2:$D$10,2,FALSE),FALSE) -> Project time (years) | N14: 1 | O14: =VLOOKUP(N14,Languages!A:J,VLOOKUP($X$6,Languages!$C$2:$D$10,2,FALSE),FALSE) -> Raw materials | Q14: ='Material (1,2,3)'!Y34 -> 0 | R14: =IF(Q14=0,0,Q14/$Q$44) -> 0 | S14: =R14 -> 0 | V14: ='Material (1,2,3)'!AI34 -> 0 | W14: =IF(V14=0,0,V14/$V$44) -> 0 | X14: =W14 -> 0
C15: =VLOOKUP("0.11",Languages!A:J,VLOOKUP($X$6,Languages!$C$2:$D$10,2,FALSE),FALSE) -> Average annual quantity | N15: 2 | O15: =VLOOKUP(N15,Languages!A:J,VLOOKUP($X$6,Languages!$C$2:$D$10,2,FALSE),FALSE) -> Purchased parts | Q15: ='Material (1,2,3)'!Z34 -> 0 | R15: =IF(Q15=0,0,Q15/$Q$44) -> 0 | S15: =R15 -> 0 | V15: ='Material (1,2,3)'!AJ34 -> 0 | W15: =IF(V15=0,0,V15/$V$44) -> 0 | X15: =W15 -> 0
C16: =VLOOKUP("0.12",Languages!A:J,VLOOKUP($X$6,Languages!$C$2:$D$10,2,FALSE),FALSE) -> Manufacturing lot size | N16: 3 | O16: =VLOOKUP(N16,Languages!A:J,VLOOKUP($X$6,Languages!$C$2:$D$10,2,FALSE),FALSE) -> Direct material | Q16: =SUM(Q14:Q15) -> 0 | R16: =IF(Q16=0,0,Q16/$Q$44) -> 0 | S16: =R16 -> 0 | V16: =SUM(V14:V15) -> 0 | W16: =IF(V16=0,0,V16/$V$44) -> 0 | X16: =W16 -> 0
C17: =VLOOKUP("0.13",Languages!A:J,VLOOKUP($X$6,Languages!$C$2:$D$10,2,FALSE),FALSE) -> Production site | N17: 4 | O17: =VLOOKUP(N17,Languages!A:J,VLOOKUP($X$6,Languages!$C$2:$D$10,2,FALSE),FALSE) -> Material scrap | Q17: ='Material (1,2,3)'!AB34 -> 0 | R17: =IF(Q17=0,0,Q17/$Q$44) -> 0 | S17: =R17 -> 0 | V17: 0 | W17: =IF(V17=0,0,V17/$V$44) -> 0 | X17: =W17 -> 0
C18: =VLOOKUP("0.14",Languages!A:J,VLOOKUP($X$6,Languages!$C$2:$D$10,2,FALSE),FALSE) -> Quotation currency | N18: 5 | O18: =VLOOKUP(N18,Languages!A:J,VLOOKUP($X$6,Languages!$C$2:$D$10,2,FALSE),FALSE) -> Material overhead | P18: =IF(Q16=0,0,Q18/Q16) -> 0 | Q18: ='Material (1,2,3)'!AA34 -> 0 | R18: =IF(Q18=0,0,Q18/$Q$44) -> 0 | S18: =R18 -> 0 | U18: 0 | V18: 0 | W18: =IF(V18=0,0,V18/$V$44) -> 0 | X18: =W18 -> 0
C19: =VLOOKUP("0.15",Languages!A:J,VLOOKUP($X$6,Languages!$C$2:$D$10,2,FALSE),FALSE) -> Quotation unit | D19: pcs | N19: 6 | O19: =VLOOKUP(N19,Languages!A:J,VLOOKUP($X$6,Languages!$C$2:$D$10,2,FALSE),FALSE) -> Interest material | Q19: 0 | R19: =IF(Q19=0,0,Q19/$Q$44) -> 0 | S19: =R19 -> 0
C20: =VLOOKUP("0.151",Languages!A:J,VLOOKUP($X$6,Languages!$C$2:$D$10,2,FALSE),FALSE) -> Date of calculation | N20: 7 | O20: =VLOOKUP(N20,Languages!A:J,VLOOKUP($X$6,Languages!$C$2:$D$10,2,FALSE),FALSE) -> Material | Q20: =SUM(Q16:Q19) -> 0 | R20: =IF(Q20=0,0,Q20/$Q$44) -> 0 | S20: =R20 -> 0 | V20: =SUM(V16:V18) -> 0 | W20: =IF(V20=0,0,V20/$V$44) -> 0 | X20: =W20 -> 0
B22: =VLOOKUP("0.16",Languages!A:J,VLOOKUP($X$6,Languages!$C$2:$D$10,2,FALSE),FALSE) -> Specific | N22: 8 | O22: =VLOOKUP(N22,Languages!A:J,VLOOKUP($X$6,Languages!$C$2:$D$10,2,FALSE),FALSE) -> Machines | Q22: ='Manufacturing (6,7,8,9)'!AA34 -> 0 | R22: =IF(Q22=0,0,Q22/$Q$44) -> 0 | S22: =R22 -> 0 | V22: ='Manufacturing (6,7,8,9)'!AS34 -> 0 | W22: =IF(V22=0,0,V22/$V$44) -> 0 | X22: =W22 -> 0
N23: 9 | O23: =VLOOKUP(N23,Languages!A:J,VLOOKUP($X$6,Languages!$C$2:$D$10,2,FALSE),FALSE) -> Setup costs | Q23: ='Manufacturing (6,7,8,9)'!AC34 -> 0 | R23: =IF(Q23=0,0,Q23/$Q$44) -> 0 | S23: =R23 -> 0
C24: =IF(VLOOKUP("0.17",Languages!A:J,VLOOKUP($X$6,Languages!$C$2:$D$10,2,FALSE),FALSE)=0,"",VLOOKUP("0.17",Languages!A:J,VLOOKUP($X$6,Languages!$C$2:$D$10,2,FALSE),FALSE)) | N24: 10 | O24: =VLOOKUP(N24,Languages!A:J,VLOOKUP($X$6,Languages!$C$2:$D$10,2,FALSE),FALSE) -> Direct labor | Q24: ='Manufacturing (6,7,8,9)'!AB34 -> 0 | R24: =IF(Q24=0,0,Q24/$Q$44) -> 0 | S24: =R24 -> 0
C25: =IF(VLOOKUP("0.18",Languages!A:J,VLOOKUP($X$6,Languages!$C$2:$D$10,2,FALSE),FALSE)=0,"",VLOOKUP("0.18",Languages!A:J,VLOOKUP($X$6,Languages!$C$2:$D$10,2,FALSE),FALSE)) | N25: 11 | O25: =VLOOKUP(N25,Languages!A:J,VLOOKUP($X$6,Languages!$C$2:$D$10,2,FALSE),FALSE) -> Tools and devices, maintenance costs | Q25: ='Manufacturing (6,7,8,9)'!AE34 -> 0 | R25: =IF(Q25=0,0,Q25/$Q$44) -> 0 | S25: =R25 -> 0
C26: =IF(VLOOKUP("0.19",Languages!A:J,VLOOKUP($X$6,Languages!$C$2:$D$10,2,FALSE),FALSE)=0,"",VLOOKUP("0.19",Languages!A:J,VLOOKUP($X$6,Languages!$C$2:$D$10,2,FALSE),FALSE)) | N26: 12 | O26: =VLOOKUP(N26,Languages!A:J,VLOOKUP($X$6,Languages!$C$2:$D$10,2,FALSE),FALSE) -> Process manufacturing | Q26: ='Manufacturing (6,7,8,9)'!AD34 -> 0 | R26: =IF(Q26=0,0,Q26/$Q$44) -> 0 | S26: =R26 -> 0 | V26: ='Manufacturing (6,7,8,9)'!AT34 -> 0 | W26: =IF(V26=0,0,V26/$V$44) -> 0 | X26: =W26 -> 0
C27: =IF(VLOOKUP("0.20",Languages!A:J,VLOOKUP($X$6,Languages!$C$2:$D$10,2,FALSE),FALSE)=0,"",VLOOKUP("0.20",Languages!A:J,VLOOKUP($X$6,Languages!$C$2:$D$10,2,FALSE),FALSE)) | N27: 13 | O27: =VLOOKUP(N27,Languages!A:J,VLOOKUP($X$6,Languages!$C$2:$D$10,2,FALSE),FALSE) -> Manufacturing I | Q27: =SUM(Q22:Q26) -> 0 | R27: =IF(Q27=0,0,Q27/$Q$44) -> 0 | S27: =R27 -> 0 | V27: =SUM(V26,V22) -> 0 | W27: =IF(V27=0,0,V27/$V$44) -> 0 | X27: =W27 -> 0
C28: =IF(VLOOKUP("0.21",Languages!A:J,VLOOKUP($X$6,Languages!$C$2:$D$10,2,FALSE),FALSE)=0,"",VLOOKUP("0.21",Languages!A:J,VLOOKUP($X$6,Languages!$C$2:$D$10,2,FALSE),FALSE)) | N28: 14 | O28: =VLOOKUP(N28,Languages!A:J,VLOOKUP($X$6,Languages!$C$2:$D$10,2,FALSE),FALSE) -> Manufacturing overhead | P28: =IF(Q27=0,0,Q28/Q27) -> 0 | Q28: ='Manufacturing (6,7,8,9)'!AG34 -> 0 | R28: =IF(Q28=0,0,Q28/$Q$44) -> 0 | S28: =R28 -> 0
C29: =IF(VLOOKUP("0.22",Languages!A:J,VLOOKUP($X$6,Languages!$C$2:$D$10,2,FALSE),FALSE)=0,"",VLOOKUP("0.22",Languages!A:J,VLOOKUP($X$6,Languages!$C$2:$D$10,2,FALSE),FALSE)) | N29: 15 | O29: =VLOOKUP(N29,Languages!A:J,VLOOKUP($X$6,Languages!$C$2:$D$10,2,FALSE),FALSE) -> Manuf. scrap | Q29: ='Manufacturing (6,7,8,9)'!AH34 -> 0 | R29: =IF(Q29=0,0,Q29/$Q$44) -> 0 | S29: =R29 -> 0 | V29: ='Manufacturing (6,7,8,9)'!AU34 -> 0 | W29: =IF(V29=0,0,V29/$V$44) -> 0 | X29: =W29 -> 0
C30: =IF(VLOOKUP("0.22",Languages!A:J,VLOOKUP($X$6,Languages!$C$2:$D$10,2,FALSE),FALSE)=0,"",VLOOKUP("0.22",Languages!A:J,VLOOKUP($X$6,Languages!$C$2:$D$10,2,FALSE),FALSE)) | N30: 16 | O30: =VLOOKUP(N30,Languages!A:J,VLOOKUP($X$6,Languages!$C$2:$D$10,2,FALSE),FALSE) -> Tools and devices allocated | Q30: ='Tools and Devices (16,24)'!N37 -> 0 | R30: =IF(Q30=0,0,Q30/$Q$44) -> 0 | S30: =R30 -> 0 | V30: ='Tools and Devices (16,24)'!Q37 -> 0 | W30: =IF(V30=0,0,V30/$V$44) -> 0 | X30: =W30 -> 0
N31: 17 | O31: =VLOOKUP(N31,Languages!A:J,VLOOKUP($X$6,Languages!$C$2:$D$10,2,FALSE),FALSE) -> Int. Work in prog. | Q31: 0 | R31: =IF(Q31=0,0,Q31/$Q$44) -> 0 | S31: =R31 -> 0
N32: 18 | O32: =VLOOKUP(N32,Languages!A:J,VLOOKUP($X$6,Languages!$C$2:$D$10,2,FALSE),FALSE) -> Manufacturing II + III | Q32: =SUM(Q27:Q31) -> 0 | R32: =IF(Q32=0,0,Q32/$Q$44) -> 0 | S32: =R32 -> 0 | V32: =SUM(V27,V29:V30) -> 0 | W32: =IF(V32=0,0,V32/$V$44) -> 0 | X32: =W32 -> 0
N34: 19 | O34: =VLOOKUP(N34,Languages!A:J,VLOOKUP($X$6,Languages!$C$2:$D$10,2,FALSE),FALSE) -> Production | Q34: =Q20+Q32 -> 0 | R34: =IF(Q34=0,0,Q34/$Q$44) -> 0 | S34: =R34 -> 0 | V34: =V20+V32 -> 0 | W34: =IF(V34=0,0,V34/$V$44) -> 0 | X34: =W34 -> 0
N35: 20 | O35: =VLOOKUP(N35,Languages!A:J,VLOOKUP($X$6,Languages!$C$2:$D$10,2,FALSE),FALSE) -> Specific development costs allocated | Q35: 0 | R35: =IF(Q35=0,0,Q35/$Q$44) -> 0 | S35: =R35 -> 0
B36: =VLOOKUP("0.23",Languages!A:J,VLOOKUP($X$6,Languages!$C$2:$D$10,2,FALSE),FALSE) -> Special agreements | N36: 21 | O36: =VLOOKUP(N36,Languages!A:J,VLOOKUP($X$6,Languages!$C$2:$D$10,2,FALSE),FALSE) -> Sales and general administration costs | P36: 0 | Q36: =P36*Q34 -> 0 | R36: =IF(Q36=0,0,Q36/$Q$44) -> 0 | S36: =R36 -> 0 | V36: 0 | W36: =IF(V36=0,0,V36/$V$44) -> 0 | X36: =W36 -> 0
B37: Data must be filled in according to Level 1 resp. Level 2 as requested by Bosch Purchasing For RFQC please select full swing year (e.g. SOP+2) For Spectra / RPP activities please select actual year | N37: 22 | O37: =VLOOKUP(N37,Languages!A:J,VLOOKUP($X$6,Languages!$C$2:$D$10,2,FALSE),FALSE) -> Research and development costs | P37: 0 | Q37: =P37*Q34 -> 0 | R37: =IF(Q37=0,0,Q37/$Q$44) -> 0 | S37: =R37 -> 0
N38: 23 | O38: =VLOOKUP(N38,Languages!A:J,VLOOKUP($X$6,Languages!$C$2:$D$10,2,FALSE),FALSE) -> Others | Q38: 0 | R38: =IF(Q38=0,0,Q38/$Q$44) -> 0 | S38: =R38 -> 0 | V38: 0 | W38: =IF(V38=0,0,V38/$V$44) -> 0 | X38: =W38 -> 0
N39: 24 | O39: =VLOOKUP(N39,Languages!A:J,VLOOKUP($X$6,Languages!$C$2:$D$10,2,FALSE),FALSE) -> Prime | Q39: =SUM(Q34:Q38) -> 0 | R39: =IF(Q39=0,0,Q39/$Q$44) -> 0 | S39: =R39 -> 0
N40: 25 | O40: =VLOOKUP(N40,Languages!A:J,VLOOKUP($X$6,Languages!$C$2:$D$10,2,FALSE),FALSE) -> Profit | P40: 0 | Q40: =P40*(Q14+Q15+Q22+Q23+Q24+Q25+Q28) -> 0 | R40: =IF(Q40=0,0,Q40/$Q$44) -> 0 | S40: =R40 -> 0
N41: 26 | O41: =VLOOKUP(N41,Languages!A:J,VLOOKUP($X$6,Languages!$C$2:$D$10,2,FALSE),FALSE) -> Terms of payment | Q41: 0 | R41: =IF(Q41=0,0,Q41/$Q$44) -> 0 | S41: =R41 -> 0
N42: 27 | O42: =VLOOKUP(N42,Languages!A:J,VLOOKUP($X$6,Languages!$C$2:$D$10,2,FALSE),FALSE) -> Transport, duties | Q42: 0 | R42: =IF(Q42=0,0,Q42/$Q$44) -> 0 | S42: =R42 -> 0 | V42: 0 | W42: =IF(V42=0,0,V42/$V$44) -> 0 | X42: =W42 -> 0
B43: =VLOOKUP("0.24",Languages!A:J,VLOOKUP($X$6,Languages!$C$2:$D$10,2,FALSE),FALSE) -> Comments: | N43: 28 | O43: =VLOOKUP(N43,Languages!A:J,VLOOKUP($X$6,Languages!$C$2:$D$10,2,FALSE),FALSE) -> Carbon tax | Q43: 0 | R43: =IF(Q43=0,0,Q43/$Q$44) -> 0 | S43: =R43 -> 0
B44: 1. Please complete in Quotation unit PCS 2. Carbon footprint data - only needed on special request | N44: 29 | O44: =VLOOKUP(N44,Languages!A:J,VLOOKUP($X$6,Languages!$C$2:$D$10,2,FALSE),FALSE) -> Net sales price / Carbon footprint | Q44: =SUM(Q39:Q40,Q41:Q43) -> 0 | R44: =IF(Q44=0,0,Q44/$Q$44) -> 0 | S44: =R44 -> 0 | V44: =SUM(V34,V36,V38,V42) -> 0 | W44: =IF(V44=0,0,V44/$V$44) -> 0 | X44: =W44 -> 0
O46: =VLOOKUP(23.1,Languages!A:J,VLOOKUP($X$6,Languages!$C$2:$D$10,2,FALSE),FALSE) -> One-time and instalment payments
N47: 30 | O47: =VLOOKUP(N47,Languages!A:J,VLOOKUP($X$6,Languages!$C$2:$D$10,2,FALSE),FALSE) -> Tools and devices | Q47: ='Tools and Devices (16,24)'!L37 -> 0
...

Sheet Material (1,2,3)
F3: =Summary!F3 -> BOSCH Material and Process Evaluation (MPE) | R3: =VLOOKUP("c",Languages!A:J,VLOOKUP(Summary!X6,Languages!$C$2:$D$10,2,FALSE),FALSE) -> Material
S5: =Summary!W5 -> Version | T5: =Summary!X5 -> 4.1
S6: =Summary!W6 -> Language | T6: =Summary!X6 -> English
F7: =Summary!G7 -> Supplier | G7: =IF(Summary!O7=0,"",Summary!O7) | N7: =VLOOKUP("0.01",Languages!A:J,VLOOKUP(Summary!X6,Languages!$C$2:$D$10,2,FALSE),FALSE) -> Field | P7: =Summary!T7 -> Project | R7: =IF(Summary!V7=0,"",Summary!V7)
F8: =Summary!G8 -> Contact person | G8: =IF(Summary!O8=0,"",Summary!O8) | N8: =VLOOKUP("0.02",Languages!A:J,VLOOKUP(Summary!X6,Languages!$C$2:$D$10,2,FALSE),FALSE) -> Level 1 | P8: =Summary!T8 -> Part number | R8: =IF(Summary!V8=0,"",Summary!V8)
F9: =Summary!G9 -> E-Mail | G9: =IF(Summary!O9=0,"",Summary!O9) | N9: =VLOOKUP("0.03",Languages!A:J,VLOOKUP(Summary!X6,Languages!$C$2:$D$10,2,FALSE),FALSE) -> Level 2 | P9: =Summary!T9 -> Part name | R9: =IF(Summary!V9=0,"",Summary!V9)
F10: =Summary!G10 -> Telephone | G10: =IF(Summary!O10=0,"",Summary!O10) | N10: =VLOOKUP("0.04",Languages!A:J,VLOOKUP(Summary!X6,Languages!$C$2:$D$10,2,FALSE),FALSE) -> calculated | P10: =Summary!T10 -> Quotation date | R10: =IF(Summary!V10=0,"",Summary!V10)
B12: =VLOOKUP("M01",Languages!A:J,VLOOKUP(Summary!X6,Languages!$C$2:$D$10,2,FALSE),FALSE) -> General inputs | M12: =VLOOKUP("M02",Languages!A:J,VLOOKUP(Summary!X6,Languages!$C$2:$D$10,2,FALSE),FALSE) -> Cost inputs | AC12: =VLOOKUP("M03",Languages!A:J,VLOOKUP(Summary!X6,Languages!$C$2:$D$10,2,FALSE),FALSE) -> Carbon footprint inputs
B13: M1 | C13: M2 | D13: M3 | E13: M4 | F13: M5 | G13: M6 | H13: M7 | I13: M8 | J13: M9 | K13: M10 | L13: M11 | M13: M12 | N13: M13 | O13: M14 | P13: M15 | Q13: M16 | R13: M17 | T13: M18 | V13: M19 | AC13: M20 | AD13: M21 | AE13: M22 | AG13: M23
B14: =VLOOKUP(B13,Languages!A:J,VLOOKUP(Summary!X6,Languages!$C$2:$D$10,2,FALSE),FALSE) -> No. | C14: =VLOOKUP(C13,Languages!A:J,VLOOKUP(Summary!X6,Languages!$C$2:$D$10,2,FALSE),FALSE) -> Manufacturing step no. | D14: =VLOOKUP(D13,Languages!A:J,VLOOKUP(Summary!X6,Languages!$C$2:$D$10,2,FALSE),FALSE) -> Item number | E14: =VLOOKUP(E13,Languages!A:J,VLOOKUP(Summary!X6,Languages!$C$2:$D$10,2,FALSE),FALSE) -> Part designation | F14: =VLOOKUP(F13,Languages!A:J,VLOOKUP(Summary!X6,Languages!$C$2:$D$10,2,FALSE),FALSE) -> Designation raw material / purchased part | G14: =VLOOKUP(G13,Languages!A:J,VLOOKUP(Summary!X6,Languages!$C$2:$D$10,2,FALSE),FALSE) -> Material class | H14: =VLOOKUP(H13,Languages!A:J,VLOOKUP(Summary!X6,Languages!$C$2:$D$10,2,FALSE),FALSE) -> Supplier | I14: =VLOOKUP(I13,Languages!A:J,VLOOKUP(Summary!X6,Languages!$C$2:$D$10,2,FALSE),FALSE) -> Unit | J14: =VLOOKUP(J13,Languages!A:J,VLOOKUP(Summary!X6,Languages!$C$2:$D$10,2,FALSE),FALSE) -> Deployed weight/ quantity | K14: =VLOOKUP(K13,Languages!A:J,VLOOKUP(Summary!X6,Languages!$C$2:$D$10,2,FALSE),FALSE) -> Net weight of finished part (only for info.) | L14: =VLOOKUP(L13,Languages!A:J,VLOOKUP(Summary!X6,Languages!$C$2:$D$10,2,FALSE),FALSE) -> Usage | M14: =VLOOKUP(M13,Languages!A:J,VLOOKUP(Summary!X6,Languages!$C$2:$D$10,2,FALSE),FALSE) -> Purchasing currency | N14: =VLOOKUP(N13,Languages!A:J,VLOOKUP(Summary!X6,Languages!$C$2:$D$10,2,FALSE),FALSE) -> Price in purchasing currency per unit | O14: =VLOOKUP(O13,Languages!A:J,VLOOKUP(Summary!X6,Languages!$C$2:$D$10,2,FALSE),FALSE) -> Rate of exchange (AW/BW) | P14: =VLOOKUP(P13,Languages!A:J,VLOOKUP(Summary!X6,Languages!$C$2:$D$10,2,FALSE),FALSE) -> Price in quotation currency per unit | Q14: =VLOOKUP(Q13,Languages!A:J,VLOOKUP(Summary!X6,Languages!$C$2:$D$10,2,FALSE),FALSE) -> Material costs | R14: =VLOOKUP(R13,Languages!A:J,VLOOKUP(Summary!X6,Languages!$C$2:$D$10,2,FALSE),FALSE) -> Material overhead costs (Base is M15) | T14: =VLOOKUP(T13,Languages!A:J,VLOOKUP(Summary!X6,Languages!$C$2:$D$10,2,FALSE),FALSE) -> Material scrap costs | V14: =VLOOKUP(V13,Languages!A:J,VLOOKUP(Summary!X6,Languages!$C$2:$D$10,2,FALSE),FALSE) -> Total material costs | X14: Total DMC | Y14: Total raw material costs | Z14: Total purchased part costs | AA14: Total MOC | AB14: Total material scrap costs | AC14: =VLOOKUP(AC13,Languages!A:J,VLOOKUP(Summary!X6,Languages!$C$2:$D$10,2,FALSE),FALSE) -> Carbon footprint | AD14: =VLOOKUP(AD13,Languages!A:J,VLOOKUP(Summary!X6,Languages!$C$2:$D$10,2,FALSE),FALSE) -> Direct material carbon footprint | AE14: =VLOOKUP(AE13,Languages!A:J,VLOOKUP(Summary!X6,Languages!$C$2:$D$10,2,FALSE),FALSE) -> Material scrap carbon footprint | AG14: =VLOOKUP(AG13,Languages!A:J,VLOOKUP(Summary!X6,Languages!$C$2:$D$10,2,FALSE),FALSE) -> Total material carbon footprint | AH14: Total DMC | AI14: Total raw material carbon footprint | AJ14: Total purchased part carbon footprint | AK14: Total material scrap carbon footprint
P15: =Summary!D18 -> 0 | Q15: =Summary!D18 -> 0 | S15: =Summary!D18 -> 0 | T15: =Summary!D18 -> 0 | V15: =Summary!D18 -> 0 | AC15: kg Co2e | AD15: kg Co2e | AE15: kg Co2e | AG15: kg Co2e
Q16: =VLOOKUP(13.3,Languages!A:J,VLOOKUP(Summary!X6,Languages!$C$2:$D$10,2,FALSE),FALSE) -> /unit | R16: % | S16: =VLOOKUP(13.3,Languages!A:J,VLOOKUP(Summary!X6,Languages!$C$2:$D$10,2,FALSE),FALSE) -> /unit | T16: =VLOOKUP(13.3,Languages!A:J,VLOOKUP(Summary!X6,Languages!$C$2:$D$10,2,FALSE),FALSE) -> /unit | U16: % | V16: =VLOOKUP(13.3,Languages!A:J,VLOOKUP(Summary!X6,Languages!$C$2:$D$10,2,FALSE),FALSE) -> /unit | AC16: =VLOOKUP(13.3,Languages!A:J,VLOOKUP(Summary!X6,Languages!$C$2:$D$10,2,FALSE),FALSE) -> /unit | AD16: =VLOOKUP(13.3,Languages!A:J,VLOOKUP(Summary!X6,Languages!$C$2:$D$10,2,FALSE),FALSE) -> /unit | AE16: =VLOOKUP(13.3,Languages!A:J,VLOOKUP(Summary!X6,Languages!$C$2:$D$10,2,FALSE),FALSE) -> /unit | AF16: % | AG16: =VLOOKUP(13.3,Languages!A:J,VLOOKUP(Summary!X6,Languages!$C$2:$D$10,2,FALSE),FALSE) -> /unit
P17: =IF(N17=0,0,N17*O17) -> 0 | Q17: =P17*J17 -> 0 | S17: =Q17*R17 -> 0 | U17: =IF(T17=0,"-",T17/(Q17+T17)) -> - | V17: =SUM(Q17,S17,T17)*L17 -> 0 | W17: =$K$14&": "&K17 -> Net weight of finished part (only for info.): | X17: =Q17*L17 -> 0 | Y17: =SUMIF(G17,RawMaterial,Q17)*L17 -> 0 | Z17: =X17-Y17 -> 0 | AA17: =S17*L17 -> 0 | AB17: =T17*L17 -> 0 | AD17: =AC17*J17 -> 0 | AF17: =IF(AE17=0,"-",AE17/(AD17+AE17)) -> - | AG17: =SUM(AD17,AE17)*L17 -> 0 | AH17: =AD17*L17 -> 0 | AI17: =SUMIF(G17,RawMaterial,AD17)*L17 -> 0 | AJ17: =AH17-AI17 -> 0 | AK17: =AE17*L17 -> 0
P18: =IF(N18=0,0,N18*O18) -> 0 | Q18: =P18*J18 -> 0 | S18: =Q18*R18 -> 0 | U18: =IF(T18=0,"-",T18/(Q18+T18)) -> - | V18: =SUM(Q18,S18,T18)*L18 -> 0 | W18: =$K$14&": "&K18 -> Net weight of finished part (only for info.): | X18: =Q18*L18 -> 0 | Y18: =SUMIF(G18,RawMaterial,Q18)*L18 -> 0 | Z18: =X18-Y18 -> 0 | AA18: =S18*L18 -> 0 | AB18: =T18*L18 -> 0 | AD18: =AC18*J18 -> 0 | AF18: =IF(AE18=0,"-",AE18/(AD18+AE18)) -> - | AG18: =SUM(AD18,AE18)*L18 -> 0 | AH18: =AD18*L18 -> 0 | AI18: =SUMIF(G18,RawMaterial,AD18)*L18 -> 0 | AJ18: =AH18-AI18 -> 0 | AK18: =AE18*L18 -> 0
P19: =IF(N19=0,0,N19*O19) -> 0 | Q19: =P19*J19 -> 0 | S19: =Q19*R19 -> 0 | U19: =IF(T19=0,"-",T19/(Q19+T19)) -> - | V19: =SUM(Q19,S19,T19)*L19 -> 0 | W19: =$K$14&": "&K19 -> Net weight of finished part (only for info.): | X19: =Q19*L19 -> 0 | Y19: =SUMIF(G19,RawMaterial,Q19)*L19 -> 0 | Z19: =X19-Y19 -> 0 | AA19: =S19*L19 -> 0 | AB19: =T19*L19 -> 0 | AD19: =AC19*J19 -> 0 | AF19: =IF(AE19=0,"-",AE19/(AD19+AE19)) -> - | AG19: =SUM(AD19,AE19)*L19 -> 0 | AH19: =AD19*L19 -> 0 | AI19: =SUMIF(G19,RawMaterial,AD19)*L19 -> 0 | AJ19: =AH19-AI19 -> 0 | AK19: =AE19*L19 -> 0
P20: =IF(N20=0,0,N20*O20) -> 0 | Q20: =P20*J20 -> 0 | S20: =Q20*R20 -> 0 | U20: =IF(T20=0,"-",T20/(Q20+T20)) -> - | V20: =SUM(Q20,S20,T20)*L20 -> 0 | W20: =$K$14&": "&K20 -> Net weight of finished part (only for info.): | X20: =Q20*L20 -> 0 | Y20: =SUMIF(G20,RawMaterial,Q20)*L20 -> 0 | Z20: =X20-Y20 -> 0 | AA20: =S20*L20 -> 0 | AB20: =T20*L20 -> 0 | AD20: =AC20*J20 -> 0 | AF20: =IF(AE20=0,"-",AE20/(AD20+AE20)) -> - | AG20: =SUM(AD20,AE20)*L20 -> 0 | AH20: =AD20*L20 -> 0 | AI20: =SUMIF(G20,RawMaterial,AD20)*L20 -> 0 | AJ20: =AH20-AI20 -> 0 | AK20: =AE20*L20 -> 0
P21: =IF(N21=0,0,N21*O21) -> 0 | Q21: =P21*J21 -> 0 | S21: =Q21*R21 -> 0 | U21: =IF(T21=0,"-",T21/(Q21+T21)) -> - | V21: =SUM(Q21,S21,T21)*L21 -> 0 | W21: =$K$14&": "&K21 -> Net weight of finished part (only for info.): | X21: =Q21*L21 -> 0 | Y21: =SUMIF(G21,RawMaterial,Q21)*L21 -> 0 | Z21: =X21-Y21 -> 0 | AA21: =S21*L21 -> 0 | AB21: =T21*L21 -> 0 | AD21: =AC21*J21 -> 0 | AF21: =IF(AE21=0,"-",AE21/(AD21+AE21)) -> - | AG21: =SUM(AD21,AE21)*L21 -> 0 | AH21: =AD21*L21 -> 0 | AI21: =SUMIF(G21,RawMaterial,AD21)*L21 -> 0 | AJ21: =AH21-AI21 -> 0 | AK21: =AE21*L21 -> 0
P22: =IF(N22=0,0,N22*O22) -> 0 | Q22: =P22*J22 -> 0 | S22: =Q22*R22 -> 0 | U22: =IF(T22=0,"-",T22/(Q22+T22)) -> - | V22: =SUM(Q22,S22,T22)*L22 -> 0 | W22: =$K$14&": "&K22 -> Net weight of finished part (only for info.): | X22: =Q22*L22 -> 0 | Y22: =SUMIF(G22,RawMaterial,Q22)*L22 -> 0 | Z22: =X22-Y22 -> 0 | AA22: =S22*L22 -> 0 | AB22: =T22*L22 -> 0 | AD22: =AC22*J22 -> 0 | AF22: =IF(AE22=0,"-",AE22/(AD22+AE22)) -> - | AG22: =SUM(AD22,AE22)*L22 -> 0 | AH22: =AD22*L22 -> 0 | AI22: =SUMIF(G22,RawMaterial,AD22)*L22 -> 0 | AJ22: =AH22-AI22 -> 0 | AK22: =AE22*L22 -> 0
P23: =IF(N23=0,0,N23*O23) -> 0 | Q23: =P23*J23 -> 0 | S23: =Q23*R23 -> 0 | U23: =IF(T23=0,"-",T23/(Q23+T23)) -> - | V23: =SUM(Q23,S23,T23)*L23 -> 0 | W23: =$K$14&": "&K23 -> Net weight of finished part (only for info.): | X23: =Q23*L23 -> 0 | Y23: =SUMIF(G23,RawMaterial,Q23)*L23 -> 0 | Z23: =X23-Y23 -> 0 | AA23: =S23*L23 -> 0 | AB23: =T23*L23 -> 0 | AD23: =AC23*J23 -> 0 | AF23: =IF(AE23=0,"-",AE23/(AD23+AE23)) -> - | AG23: =SUM(AD23,AE23)*L23 -> 0 | AH23: =AD23*L23 -> 0 | AI23: =SUMIF(G23,RawMaterial,AD23)*L23 -> 0 | AJ23: =AH23-AI23 -> 0 | AK23: =AE23*L23 -> 0
P24: =IF(N24=0,0,N24*O24) -> 0 | Q24: =P24*J24 -> 0 | S24: =Q24*R24 -> 0 | U24: =IF(T24=0,"-",T24/(Q24+T24)) -> - | V24: =SUM(Q24,S24,T24)*L24 -> 0 | W24: =$K$14&": "&K24 -> Net weight of finished part (only for info.): | X24: =Q24*L24 -> 0 | Y24: =SUMIF(G24,RawMaterial,Q24)*L24 -> 0 | Z24: =X24-Y24 -> 0 | AA24: =S24*L24 -> 0 | AB24: =T24*L24 -> 0 | AD24: =AC24*J24 -> 0 | AF24: =IF(AE24=0,"-",AE24/(AD24+AE24)) -> - | AG24: =SUM(AD24,AE24)*L24 -> 0 | AH24: =AD24*L24 -> 0 | AI24: =SUMIF(G24,RawMaterial,AD24)*L24 -> 0 | AJ24: =AH24-AI24 -> 0 | AK24: =AE24*L24 -> 0
P25: =IF(N25=0,0,N25*O25) -> 0 | Q25: =P25*J25 -> 0 | S25: =Q25*R25 -> 0 | U25: =IF(T25=0,"-",T25/(Q25+T25)) -> - | V25: =SUM(Q25,S25,T25)*L25 -> 0 | W25: =$K$14&": "&K25 -> Net weight of finished part (only for info.): | X25: =Q25*L25 -> 0 | Y25: =SUMIF(G25,RawMaterial,Q25)*L25 -> 0 | Z25: =X25-Y25 -> 0 | AA25: =S25*L25 -> 0 | AB25: =T25*L25 -> 0 | AD25: =AC25*J25 -> 0 | AF25: =IF(AE25=0,"-",AE25/(AD25+AE25)) -> - | AG25: =SUM(AD25,AE25)*L25 -> 0 | AH25: =AD25*L25 -> 0 | AI25: =SUMIF(G25,RawMaterial,AD25)*L25 -> 0 | AJ25: =AH25-AI25 -> 0 | AK25: =AE25*L25 -> 0
P26: =IF(N26=0,0,N26*O26) -> 0 | Q26: =P26*J26 -> 0 | S26: =Q26*R26 -> 0 | U26: =IF(T26=0,"-",T26/(Q26+T26)) -> - | V26: =SUM(Q26,S26,T26)*L26 -> 0 | W26: =$K$14&": "&K26 -> Net weight of finished part (only for info.): | X26: =Q26*L26 -> 0 | Y26: =SUMIF(G26,RawMaterial,Q26)*L26 -> 0 | Z26: =X26-Y26 -> 0 | AA26: =S26*L26 -> 0 | AB26: =T26*L26 -> 0 | AD26: =AC26*J26 -> 0 | AF26: =IF(AE26=0,"-",AE26/(AD26+AE26)) -> - | AG26: =SUM(AD26,AE26)*L26 -> 0 | AH26: =AD26*L26 -> 0 | AI26: =SUMIF(G26,RawMaterial,AD26)*L26 -> 0 | AJ26: =AH26-AI26 -> 0 | AK26: =AE26*L26 -> 0
P27: =IF(N27=0,0,N27*O27) -> 0 | Q27: =P27*J27 -> 0 | S27: =Q27*R27 -> 0 | U27: =IF(T27=0,"-",T27/(Q27+T27)) -> - | V27: =SUM(Q27,S27,T27)*L27 -> 0 | W27: =$K$14&": "&K27 -> Net weight of finished part (only for info.): | X27: =Q27*L27 -> 0 | Y27: =SUMIF(G27,RawMaterial,Q27)*L27 -> 0 | Z27: =X27-Y27 -> 0 | AA27: =S27*L27 -> 0 | AB27: =T27*L27 -> 0 | AD27: =AC27*J27 -> 0 | AF27: =IF(AE27=0,"-",AE27/(AD27+AE27)) -> - | AG27: =SUM(AD27,AE27)*L27 -> 0 | AH27: =AD27*L27 -> 0 | AI27: =SUMIF(G27,RawMaterial,AD27)*L27 -> 0 | AJ27: =AH27-AI27 -> 0 | AK27: =AE27*L27 -> 0
P28: =IF(N28=0,0,N28*O28) -> 0 | Q28: =P28*J28 -> 0 | S28: =Q28*R28 -> 0 | U28: =IF(T28=0,"-",T28/(Q28+T28)) -> - | V28: =SUM(Q28,S28,T28)*L28 -> 0 | W28: =$K$14&": "&K28 -> Net weight of finished part (only for info.): | X28: =Q28*L28 -> 0 | Y28: =SUMIF(G28,RawMaterial,Q28)*L28 -> 0 | Z28: =X28-Y28 -> 0 | AA28: =S28*L28 -> 0 | AB28: =T28*L28 -> 0 | AD28: =AC28*J28 -> 0 | AF28: =IF(AE28=0,"-",AE28/(AD28+AE28)) -> - | AG28: =SUM(AD28,AE28)*L28 -> 0 | AH28: =AD28*L28 -> 0 | AI28: =SUMIF(G28,RawMaterial,AD28)*L28 -> 0 | AJ28: =AH28-AI28 -> 0 | AK28: =AE28*L28 -> 0
... P31: =IF(N31=0,0,N31*O31) -> 0 | Q31: =P31*J31 -> 0 | S31: =Q31*R31 -> 0 | U31: =IF(T31=0,"-",T31/(Q31+T31)) -> - | V31: =SUM(Q31,S31,T31)*L31 -> 0 | W31: =$K$14&": "&K31 -> Net weight of finished part (only for info.): | X31: =Q31*L31 -> 0 | Y31: =SUMIF(G31,RawMaterial,Q31)*L31 -> 0 | Z31: =X31-Y31 -> 0 | AA31: =S31*L31 -> 0 | AB31: =T31*L31 -> 0 | AD31: =AC31*J31 -> 0 | AF31: =IF(AE31=0,"-",AE31/(AD31+AE31)) -> - | AG31: =SUM(AD31,AE31)*L31 -> 0 | AH31: =AD31*L31 -> 0 | AI31: =SUMIF(G31,RawMaterial,AD31)*L31 -> 0 | AJ31: =AH31-AI31 -> 0 | AK31: =AE31*L31 -> 0
P32: =IF(N32=0,0,N32*O32) -> 0 | Q32: =P32*J32 -> 0 | S32: =Q32*R32 -> 0 | T32: =0%*(Q17+0%*Q17) -> 0 | U32: =IF(T32=0,"-",T32/(Q32+T32)) -> - | V32: =SUM(Q32,S32,T32)*L32 -> 0 | W32: =$K$14&": "&K32 -> Net weight of finished part (only for info.): | X32: =Q32*L32 -> 0 | Y32: =SUMIF(G32,RawMaterial,Q32)*L32 -> 0 | Z32: =X32-Y32 -> 0 | AA32: =S32*L32 -> 0 | AB32: =T32*L32 -> 0 | AD32: =AC32*J32 -> 0 | AF32: =IF(AE32=0,"-",AE32/(AD32+AE32)) -> - | AG32: =SUM(AD32,AE32)*L32 -> 0 | AH32: =AD32*L32 -> 0 | AI32: =SUMIF(G32,RawMaterial,AD32)*L32 -> 0 | AJ32: =AH32-AI32 -> 0 | AK32: =AE32*L32 -> 0
B34: Material | L34: =VLOOKUP("M25",Languages!A:J,VLOOKUP(Summary!X6,Languages!$C$2:$D$10,2,FALSE),FALSE) -> Sums | S34: =VLOOKUP("M29",Languages!A:J,VLOOKUP(Summary!X6,Languages!$C$2:$D$10,2,FALSE),FALSE) -> Mat. OH | T34: =VLOOKUP("M30",Languages!A:J,VLOOKUP(Summary!X6,Languages!$C$2:$D$10,2,FALSE),FALSE) -> Scrap | V34: =VLOOKUP("M31",Languages!A:J,VLOOKUP(Summary!X6,Languages!$C$2:$D$10,2,FALSE),FALSE) -> Total MC | X34: =SUM(X16:X32) -> 0 | Y34: =SUM(Y16:Y32) -> 0 | Z34: =SUM(Z16:Z32) -> 0 | AA34: =SUM(AA16:AA32) -> 0 | AB34: =SUM(AB16:AB32) -> 0 | AG34: =VLOOKUP("M32",Languages!A:J,VLOOKUP(Summary!X6,Languages!$C$2:$D$10,2,FALSE),FALSE) -> Total material carbon footprint | AH34: =SUM(AH16:AH32) -> 0 | AI34: =SUM(AI16:AI32) -> 0 | AJ34: =SUM(AJ16:AJ32) -> 0 | AK34: =SUM(AK16:AK32) -> 0
B35: =VLOOKUP("M24",Languages!A:J,VLOOKUP(Summary!X6,Languages!$C$2:$D$10,2,FALSE),FALSE) -> Comments | Q35: =VLOOKUP("M26",Languages!A:J,VLOOKUP(Summary!X6,Languages!$C$2:$D$10,2,FALSE),FALSE) -> Total DMC | S35: =SUM(S15:S32) -> 0 | T35: =SUM(T15:T32) -> 0 | V35: =SUM(V15:V32) -> 0 | AG35: =SUM(AG15:AG32) -> 0
Q36: =VLOOKUP("M27",Languages!A:J,VLOOKUP(Summary!X6,Languages!$C$2:$D$10,2,FALSE),FALSE) -> Raw Materials | S36: =SUMIF(G15:G32,Assumptions!H5,S15:S32) -> 0 | V36: =SUMIF(G15:G32,Assumptions!H5,V15:V32) -> 0
Q37: =VLOOKUP("M28",Languages!A:J,VLOOKUP(Summary!X6,Languages!$C$2:$D$10,2,FALSE),FALSE) -> Purchased Parts | S37: =SUM(S15:S32)-S36 -> 0 | V37: =SUM(V15:V32)-V36 -> 0

Sheet Manufacturing (6,7,8,9)
E3: =Summary!F3 -> BOSCH Material and Process Evaluation (MPE) | W3: =VLOOKUP("d",Languages!A:J,VLOOKUP(Summary!X6,Languages!$C$2:$D$10,2,FALSE),FALSE) -> Manufacturing
X5: =Summary!W5 -> Version | Y5: =Summary!X5 -> 4.1
X6: =Summary!W6 -> Language | Y6: =Summary!X6 -> English
E7: =Summary!G7 -> Supplier | G7: =IF(Summary!O7=0,"",Summary!O7) | M7: =VLOOKUP("0.01",Languages!A:J,VLOOKUP(Summary!X6,Languages!$C$2:$D$10,2,FALSE),FALSE) -> Field | U7: =Summary!T7 -> Project | W7: =IF(Summary!V7=0,"",Summary!V7)
E8: =Summary!G8 -> Contact person | G8: =IF(Summary!O8=0,"",Summary!O8) | M8: =VLOOKUP("0.02",Languages!A:J,VLOOKUP(Summary!X6,Languages!$C$2:$D$10,2,FALSE),FALSE) -> Level 1 | U8: =Summary!T8 -> Part number | W8: =IF(Summary!V8=0,"",Summary!V8)
E9: =Summary!G9 -> E-Mail | G9: =IF(Summary!O9=0,"",Summary!O9) | M9: =VLOOKUP("0.03",Languages!A:J,VLOOKUP(Summary!X6,Languages!$C$2:$D$10,2,FALSE),FALSE) -> Level 2 | U9: =Summary!T9 -> Part name | W9: =IF(Summary!V9=0,"",Summary!V9)
E10: =Summary!G10 -> Telephone | G10: =IF(Summary!O10=0,"",Summary!O10) | M10: =VLOOKUP("0.04",Languages!A:J,VLOOKUP(Summary!X6,Languages!$C$2:$D$10,2,FALSE),FALSE) -> calculated | U10: =Summary!T10 -> Quotation date | W10: =IF(Summary!V10=0,"",Summary!V10)
B12: =VLOOKUP("P01",Languages!A:J,VLOOKUP(Summary!X6,Languages!$C$2:$D$10,2,FALSE),FALSE) -> General inputs | L12: =VLOOKUP("P02",Languages!A:J,VLOOKUP(Summary!X6,Languages!$C$2:$D$10,2,FALSE),FALSE) -> Cost inputs | AF12: Sum Machine costs + Setup costs + Tool Maintenance | AI12: =G14&" " &$R$14 -> Utilization ratio (only for info.) Manufacturing lot size (only for info.) | AK12: =VLOOKUP("P03",Languages!A:J,VLOOKUP(Summary!X6,Languages!$C$2:$D$10,2,FALSE),FALSE) -> Carbon footprint inputs
B13: P1 | C13: P2 | D13: P3 | E13: P4 | F13: P4.1 | G13: P5 | H13: P6 | I13: P6.1 | J13: P7 | K13: P20 | L13: P8 | M13: P9 | N13: P10 | O13: P11 | P13: P12 | Q13: P13 | R13: P14 | S13: P15 | T13: P16 | U13: P17 | W13: P18 | Y13: P19 | Z13: P21 | AK13: P33 | AL13: P34 | AM13: P35 | AN13: P36 | AO13: P37 | AQ13: P38 | AR13: P39
B14: =VLOOKUP("P1",Languages!A:J,VLOOKUP(Summary!X6,Languages!$C$2:$D$10,2,FALSE),FALSE) -> Manufacturing step no. | C14: =VLOOKUP(C13,Languages!A:J,VLOOKUP(Summary!X6,Languages!$C$2:$D$10,2,FALSE),FALSE) -> Designation Manufacturing step | D14: =VLOOKUP(D13,Languages!A:J,VLOOKUP(Summary!X6,Languages!$C$2:$D$10,2,FALSE),FALSE) -> Designation facility / machine / type | E14: =VLOOKUP(E13,Languages!A:J,VLOOKUP(Summary!$X$6,Languages!$C$2:$D$10,2,FALSE),FALSE) -> Investment facility / machine / type | F14: Calculation quality | G14: =VLOOKUP(G13,Languages!A:J,VLOOKUP(Summary!$X$6,Languages!$C$2:$D$10,2,FALSE),FALSE) -> Utilization ratio (only for info.) | H14: =VLOOKUP(H13,Languages!A:J,VLOOKUP(Summary!$X$6,Languages!$C$2:$D$10,2,FALSE),FALSE) -> Cycle time | I14: Cycle time calculation in seconds | J14: =VLOOKUP(J13,Languages!A:J,VLOOKUP(Summary!$X$6,Languages!$C$2:$D$10,2,FALSE),FALSE) -> Number of parts per cycle | K14: =VLOOKUP(K13,Languages!A:J,VLOOKUP(Summary!$X$6,Languages!$C$2:$D$10,2,FALSE),FALSE) -> Usage | L14: =VLOOKUP(L13,Languages!A:J,VLOOKUP(Summary!$X$6,Languages!$C$2:$D$10,2,FALSE),FALSE) -> Machine hourly rate | M14: =VLOOKUP(M13,Languages!A:J,VLOOKUP(Summary!$X$6,Languages!$C$2:$D$10,2,FALSE),FALSE) -> Machine costs | N14: =VLOOKUP(N13,Languages!A:J,VLOOKUP(Summary!$X$6,Languages!$C$2:$D$10,2,FALSE),FALSE) -> Number of direct workers | O14: =VLOOKUP(O13,Languages!A:J,VLOOKUP(Summary!$X$6,Languages!$C$2:$D$10,2,FALSE),FALSE) -> Total labor hourly rate | P14: =VLOOKUP(P13,Languages!A:J,VLOOKUP(Summary!$X$6,Languages!$C$2:$D$10,2,FALSE),FALSE) -> Direct labor costs | Q14: =VLOOKUP(Q13,Languages!A:J,VLOOKUP(Summary!$X$6,Languages!$C$2:$D$10,2,FALSE),FALSE) -> Setup costs / Process costs per unit | ... U14: =VLOOKUP(U13,Languages!A:J,VLOOKUP(Summary!$X$6,Languages!$C$2:$D$10,2,FALSE),FALSE) -> Manufacturing overhead costs (Base is P16) | W14: =VLOOKUP(W13,Languages!A:J,VLOOKUP(Summary!$X$6,Languages!$C$2:$D$10,2,FALSE),FALSE) -> Manufacturing scrap | Y14: =VLOOKUP(Y13,Languages!A:J,VLOOKUP(Summary!$X$6,Languages!$C$2:$D$10,2,FALSE),FALSE) -> Manufacturing costs | Z14: =VLOOKUP(Z13,Languages!A:J,VLOOKUP(Summary!$X$6,Languages!$C$2:$D$10,2,FALSE),FALSE) -> Total Manufacturing costs | AA14: Machine costs | AB14: Direct labor costs | AC14: Setup costs per unit | AD14: Process costs | AE14: Tool maintenance | AG14: Manufacturing overhead costs | AH14: Manufacturing Scrap | AK14: =VLOOKUP(AK13,Languages!A:J,VLOOKUP(Summary!$X$6,Languages!$C$2:$D$10,2,FALSE),FALSE) -> Machine carbon footprint rate | AL14: =VLOOKUP(AL13,Languages!A:J,VLOOKUP(Summary!$X$6,Languages!$C$2:$D$10,2,FALSE),FALSE) -> Machine carbon footprint | AM14: =VLOOKUP(AM13,Languages!A:J,VLOOKUP(Summary!$X$6,Languages!$C$2:$D$10,2,FALSE),FALSE) -> Carbon footprint per unit | AN14: =VLOOKUP(AN13,Languages!A:J,VLOOKUP(Summary!$X$6,Languages!$C$2:$D$10,2,FALSE),FALSE) -> Manufacturing carbon footprint I | AO14: =VLOOKUP(AO13,Languages!A:J,VLOOKUP(Summary!$X$6,Languages!$C$2:$D$10,2,FALSE),FALSE) -> Manufacturing scrap carbon footprint | AQ14: =VLOOKUP(AQ13,Languages!A:J,VLOOKUP(Summary!$X$6,Languages!$C$2:$D$10,2,FALSE),FALSE) -> Manufacturing carbon footprint II | AR14: =VLOOKUP(AR13,Languages!A:J,VLOOKUP(Summary!$X$6,Languages!$C$2:$D$10,2,FALSE),FALSE) -> Production carbon footprint | AS14: Machine carbon footprint | AT14: Carbon footprint per unit | AU14: Manufacturing Scrap carbon footprint
H15: in | L15: =Summary!D18 -> 0 | M15: =Summary!D18 -> 0 | O15: =Summary!D18 -> 0 | P15: =Summary!D18 -> 0 | Q15: =Summary!D18 -> 0 | S15: =Summary!D18 -> 0 | T15: =Summary!D18 -> 0 | V15: =Summary!D18 -> 0 | W15: =Summary!D18 -> 0 | Y15: =Summary!D18 -> 0 | Z15: =Summary!D18 -> 0 | AK15: kg Co2e | AL15: kg Co2e | AM15: kg Co2e | AN15: kg Co2e | AO15: kg Co2e | AQ15: kg Co2e | AR15: kg Co2e
E16: =Summary!D18 -> 0 | G16: % | H16: seconds | I16: seconds | K16: =VLOOKUP(13.5,Languages!A:J,VLOOKUP(Summary!$X$6,Languages!$C$2:$D$10,2,FALSE),FALSE) -> units | L16: =VLOOKUP("P8.1",Languages!A:J,VLOOKUP(Summary!$X$6,Languages!$C$2:$D$10,2,FALSE),FALSE) -> /hour | M16: =VLOOKUP(13.3,Languages!A:J,VLOOKUP(Summary!$X$6,Languages!$C$2:$D$10,2,FALSE),FALSE) -> /unit | N16: =VLOOKUP(13.4,Languages!A:J,VLOOKUP(Summary!$X$6,Languages!$C$2:$D$10,2,FALSE),FALSE) -> unit | O16: =VLOOKUP("P8.1",Languages!A:J,VLOOKUP(Summary!$X$6,Languages!$C$2:$D$10,2,FALSE),FALSE) -> /hour | P16: =VLOOKUP(13.3,Languages!A:J,VLOOKUP(Summary!$X$6,Languages!$C$2:$D$10,2,FALSE),FALSE) -> /unit | Q16: =VLOOKUP(13.3,Languages!A:J,VLOOKUP(Summary!$X$6,Languages!$C$2:$D$10,2,FALSE),FALSE) -> /unit | S16: =VLOOKUP(13.3,Languages!A:J,VLOOKUP(Summary!$X$6,Languages!$C$2:$D$10,2,FALSE),FALSE) -> /unit | T16: =VLOOKUP(13.3,Languages!A:J,VLOOKUP(Summary!$X$6,Languages!$C$2:$D$10,2,FALSE),FALSE) -> /unit | U16: % | V16: =VLOOKUP(13.3,Languages!A:J,VLOOKUP(Summary!$X$6,Languages!$C$2:$D$10,2,FALSE),FALSE) -> /unit | W16: =VLOOKUP(13.3,Languages!A:J,VLOOKUP(Summary!$X$6,Languages!$C$2:$D$10,2,FALSE),FALSE) -> /unit | X16: % | Y16: =VLOOKUP(13.3,Languages!A:J,VLOOKUP(Summary!$X$6,Languages!$C$2:$D$10,2,FALSE),FALSE) -> /unit | Z16: =VLOOKUP(13.6,Languages!A:J,VLOOKUP(Summary!$X$6,Languages!$C$2:$D$10,2,FALSE),FALSE) -> /quot. Unit | AK16: =VLOOKUP("P8.1",Languages!A:J,VLOOKUP(Summary!$X$6,Languages!$C$2:$D$10,2,FALSE),FALSE) -> /hour | AL16: =VLOOKUP(13.3,Languages!A:J,VLOOKUP(Summary!$X$6,Languages!$C$2:$D$10,2,FALSE),FALSE) -> /unit | AM16: =VLOOKUP(13.3,Languages!A:J,VLOOKUP(Summary!$X$6,Languages!$C$2:$D$10,2,FALSE),FALSE) -> /unit | AN16: =VLOOKUP(13.3,Languages!A:J,VLOOKUP(Summary!$X$6,Languages!$C$2:$D$10,2,FALSE),FALSE) -> /unit | AO16: =VLOOKUP(13.3,Languages!A:J,VLOOKUP(Summary!$X$6,Languages!$C$2:$D$10,2,FALSE),FALSE) -> /unit | AP16: % | AQ16: =VLOOKUP(13.3,Languages!A:J,VLOOKUP(Summary!$X$6,Languages!$C$2:$D$10,2,FALSE),FALSE) -> /unit | AR16: =VLOOKUP(13.3,Languages!A:J,VLOOKUP(Summary!$X$6,Languages!$C$2:$D$10,2,FALSE),FALSE) -> /unit
F17: Detailed | I17: =IF($H$16=Assumptions!$J$6,H17*60,IF($H$16=Assumptions!$J$7,H17*3600,H17)) -> 0 | M17: =IF(J17>0,L17*I17/J17/3600,0) -> 0 | P17: =IF(J17>0,(N17*O17)*I17/J17/3600,0) -> 0 | T17: =IF(F17=Assumptions!$I$6,Q17,SUM(M17+P17+Q17+S17)) -> 0 | V17: =T17*U17 -> 0 | X17: =IF(W17=0,"-",W17/Y17) -> - | Y17: =SUM(T17+V17+W17) -> 0 | Z17: =IF(Y17=0,"-",Y17*K17) -> - | AA17: =M17*K17 -> 0 | AB17: =P17*K17 -> 0 | AC17: =IF(F17=Assumptions!$I$5,Q17*K17,0) -> 0 | AD17: =IF(F17=Assumptions!$I$6,Q17*K17,0) -> 0 | AE17: =S17*K17 -> 0 | AF17: =AA17+AC17+AE17 -> 0 | AG17: =V17*K17 -> 0 | AH17: =W17*K17 -> 0 | AI17: =$G$14&": "&G17*100&" %"&" "&$R$14&": "&R17 -> Utilization ratio (only for info.): 0 % Manufacturing lot size (only for info.): | AL17: =IF(J17>0,AK17*I17/J17/3600,0) -> 0 | AN17: =IF(F17=Assumptions!$I$6,AM17,AL17) -> 0 | AP17: =IF(AO17=0,"-",AO17/AQ17) -> - | AQ17: =SUM(AN17+AO17) -> 0 | AR17: =IF(AQ17=0,"-",AQ17*K17) -> - | AS17: =K17*AL17 -> 0 | AT17: =K17*AM17 -> 0 | AU17: =K17*AO17 -> 0
F18: Detailed | I18: =IF($H$16=Assumptions!$J$6,H18*60,IF($H$16=Assumptions!$J$7,H18*3600,H18)) -> 0 | M18: =IF(J18>0,L18*I18/J18/3600,0) -> 0 | P18: =IF(J18>0,(N18*O18)*I18/J18/3600,0) -> 0 | T18: =IF(F18=Assumptions!$I$6,Q18,SUM(M18+P18+Q18+S18)) -> 0 | V18: =T18*U18 -> 0 | X18: =IF(W18=0,"-",W18/Y18) -> - | Y18: =SUM(T18+V18+W18) -> 0 | Z18: =IF(Y18=0,"-",Y18*K18) -> - | AA18: =M18*K18 -> 0 | AB18: =P18*K18 -> 0 | AC18: =IF(F18=Assumptions!$I$5,Q18*K18,0) -> 0 | AD18: =IF(F18=Assumptions!$I$6,Q18*K18,0) -> 0 | AE18: =S18*K18 -> 0 | AF18: =AA18+AC18+AE18 -> 0 | AG18: =V18*K18 -> 0 | AH18: =W18*K18 -> 0 | AI18: =$G$14&": "&G18*100&" %"&" "&$R$14&": "&R18 -> Utilization ratio (only for info.): 0 % Manufacturing lot size (only for info.): | AL18: =IF(J18>0,AK18*I18/J18/3600,0) -> 0 | AN18: =IF(F18=Assumptions!$I$6,AM18,AL18) -> 0 | AP18: =IF(AO18=0,"-",AO18/AQ18) -> - | AQ18: =SUM(AN18+AO18) -> 0 | AR18: =IF(AQ18=0,"-",AQ18*K18) -> - | AS18: =K18*AL18 -> 0 | AT18: =K18*AM18 -> 0 | AU18: =K18*AO18 -> 0
F19: Detailed | I19: =IF($H$16=Assumptions!$J$6,H19*60,IF($H$16=Assumptions!$J$7,H19*3600,H19)) -> 0 | M19: =IF(J19>0,L19*I19/J19/3600,0) -> 0 | P19: =IF(J19>0,(N19*O19)*I19/J19/3600,0) -> 0 | T19: =IF(F19=Assumptions!$I$6,Q19,SUM(M19+P19+Q19+S19)) -> 0 | V19: =T19*U19 -> 0 | X19: =IF(W19=0,"-",W19/Y19) -> - | Y19: =SUM(T19+V19+W19) -> 0 | Z19: =IF(Y19=0,"-",Y19*K19) -> - | AA19: =M19*K19 -> 0 | AB19: =P19*K19 -> 0 | AC19: =IF(F19=Assumptions!$I$5,Q19*K19,0) -> 0 | AD19: =IF(F19=Assumptions!$I$6,Q19*K19,0) -> 0 | AE19: =S19*K19 -> 0 | AF19: =AA19+AC19+AE19 -> 0 | AG19: =V19*K19 -> 0 | AH19: =W19*K19 -> 0 | AI19: =$G$14&": "&G19*100&" %"&" "&$R$14&": "&R19 -> Utilization ratio (only for info.): 0 % Manufacturing lot size (only for info.): | AL19: =IF(J19>0,AK19*I19/J19/3600,0) -> 0 | AN19: =IF(F19=Assumptions!$I$6,AM19,AL19) -> 0 | AP19: =IF(AO19=0,"-",AO19/AQ19) -> - | AQ19: =SUM(AN19+AO19) -> 0 | AR19: =IF(AQ19=0,"-",AQ19*K19) -> - | AS19: =K19*AL19 -> 0 | AT19: =K19*AM19 -> 0 | AU19: =K19*AO19 -> 0
F20: Detailed | I20: =IF($H$16=Assumptions!$J$6,H20*60,IF($H$16=Assumptions!$J$7,H20*3600,H20)) -> 0 | M20: =IF(J20>0,L20*I20/J20/3600,0) -> 0 | P20: =IF(J20>0,(N20*O20)*I20/J20/3600,0) -> 0 | T20: =IF(F20=Assumptions!$I$6,Q20,SUM(M20+P20+Q20+S20)) -> 0 | V20: =T20*U20 -> 0 | X20: =IF(W20=0,"-",W20/Y20) -> - | Y20: =SUM(T20+V20+W20) -> 0 | Z20: =IF(Y20=0,"-",Y20*K20) -> - | AA20: =M20*K20 -> 0 | AB20: =P20*K20 -> 0 | AC20: =IF(F20=Assumptions!$I$5,Q20*K20,0) -> 0 | AD20: =IF(F20=Assumptions!$I$6,Q20*K20,0) -> 0 | AE20: =S20*K20 -> 0 | AF20: =AA20+AC20+AE20 -> 0 | AG20: =V20*K20 -> 0 | AH20: =W20*K20 -> 0 | AI20: =$G$14&": "&G20*100&" %"&" "&$R$14&": "&R20 -> Utilization ratio (only for info.): 0 % Manufacturing lot size (only for info.): | AL20: =IF(J20>0,AK20*I20/J20/3600,0) -> 0 | AN20: =IF(F20=Assumptions!$I$6,AM20,AL20) -> 0 | AP20: =IF(AO20=0,"-",AO20/AQ20) -> - | AQ20: =SUM(AN20+AO20) -> 0 | AR20: =IF(AQ20=0,"-",AQ20*K20) -> - | AS20: =K20*AL20 -> 0 | AT20: =K20*AM20 -> 0 | AU20: =K20*AO20 -> 0
F21: Detailed | I21: =IF($H$16=Assumptions!$J$6,H21*60,IF($H$16=Assumptions!$J$7,H21*3600,H21)) -> 0 | M21: =IF(J21>0,L21*I21/J21/3600,0) -> 0 | P21: =IF(J21>0,(N21*O21)*I21/J21/3600,0) -> 0 | T21: =IF(F21=Assumptions!$I$6,Q21,SUM(M21+P21+Q21+S21)) -> 0 | V21: =T21*U21 -> 0 | X21: =IF(W21=0,"-",W21/Y21) -> - | Y21: =SUM(T21+V21+W21) -> 0 | Z21: =IF(Y21=0,"-",Y21*K21) -> - | AA21: =M21*K21 -> 0 | AB21: =P21*K21 -> 0 | AC21: =IF(F21=Assumptions!$I$5,Q21*K21,0) -> 0 | AD21: =IF(F21=Assumptions!$I$6,Q21*K21,0) -> 0 | AE21: =S21*K21 -> 0 | AF21: =AA21+AC21+AE21 -> 0 | AG21: =V21*K21 -> 0 | AH21: =W21*K21 -> 0 | AI21: =$G$14&": "&G21*100&" %"&" "&$R$14&": "&R21 -> Utilization ratio (only for info.): 0 % Manufacturing lot size (only for info.): | AL21: =IF(J21>0,AK21*I21/J21/3600,0) -> 0 | AN21: =IF(F21=Assumptions!$I$6,AM21,AL21) -> 0 | AP21: =IF(AO21=0,"-",AO21/AQ21) -> - | AQ21: =SUM(AN21+AO21) -> 0 | AR21: =IF(AQ21=0,"-",AQ21*K21) -> - | AS21: =K21*AL21 -> 0 | AT21: =K21*AM21 -> 0 | AU21: =K21*AO21 -> 0
F22: Detailed | I22: =IF($H$16=Assumptions!$J$6,H22*60,IF($H$16=Assumptions!$J$7,H22*3600,H22)) -> 0 | M22: =IF(J22>0,L22*I22/J22/3600,0) -> 0 | P22: =IF(J22>0,(N22*O22)*I22/J22/3600,0) -> 0 | T22: =IF(F22=Assumptions!$I$6,Q22,SUM(M22+P22+Q22+S22)) -> 0 | V22: =T22*U22 -> 0 | X22: =IF(W22=0,"-",W22/Y22) -> - | Y22: =SUM(T22+V22+W22) -> 0 | Z22: =IF(Y22=0,"-",Y22*K22) -> - | AA22: =M22*K22 -> 0 | AB22: =P22*K22 -> 0 | AC22: =IF(F22=Assumptions!$I$5,Q22*K22,0) -> 0 | AD22: =IF(F22=Assumptions!$I$6,Q22*K22,0) -> 0 | AE22: =S22*K22 -> 0 | AF22: =AA22+AC22+AE22 -> 0 | AG22: =V22*K22 -> 0 | AH22: =W22*K22 -> 0 | AI22: =$G$14&": "&G22*100&" %"&" "&$R$14&": "&R22 -> Utilization ratio (only for info.): 0 % Manufacturing lot size (only for info.): | AL22: =IF(J22>0,AK22*I22/J22/3600,0) -> 0 | AN22: =IF(F22=Assumptions!$I$6,AM22,AL22) -> 0 | AP22: =IF(AO22=0,"-",AO22/AQ22) -> - | AQ22: =SUM(AN22+AO22) -> 0 | AR22: =IF(AQ22=0,"-",AQ22*K22) -> - | AS22: =K22*AL22 -> 0 | AT22: =K22*AM22 -> 0 | AU22: =K22*AO22 -> 0
F23: Detailed | I23: =IF($H$16=Assumptions!$J$6,H23*60,IF($H$16=Assumptions!$J$7,H23*3600,H23)) -> 0 | M23: =IF(J23>0,L23*I23/J23/3600,0) -> 0 | P23: =IF(J23>0,(N23*O23)*I23/J23/3600,0) -> 0 | T23: =IF(F23=Assumptions!$I$6,Q23,SUM(M23+P23+Q23+S23)) -> 0 | V23: =T23*U23 -> 0 | X23: =IF(W23=0,"-",W23/Y23) -> - | Y23: =SUM(T23+V23+W23) -> 0 | Z23: =IF(Y23=0,"-",Y23*K23) -> - | AA23: =M23*K23 -> 0 | AB23: =P23*K23 -> 0 | AC23: =IF(F23=Assumptions!$I$5,Q23*K23,0) -> 0 | AD23: =IF(F23=Assumptions!$I$6,Q23*K23,0) -> 0 | AE23: =S23*K23 -> 0 | AF23: =AA23+AC23+AE23 -> 0 | AG23: =V23*K23 -> 0 | AH23: =W23*K23 -> 0 | AI23: =$G$14&": "&G23*100&" %"&" "&$R$14&": "&R23 -> Utilization ratio (only for info.): 0 % Manufacturing lot size (only for info.): | AL23: =IF(J23>0,AK23*I23/J23/3600,0) -> 0 | AN23: =IF(F23=Assumptions!$I$6,AM23,AL23) -> 0 | AP23: =IF(AO23=0,"-",AO23/AQ23) -> - | AQ23: =SUM(AN23+AO23) -> 0 | AR23: =IF(AQ23=0,"-",AQ23*K23) -> - | AS23: =K23*AL23 -> 0 | AT23: =K23*AM23 -> 0 | AU23: =K23*AO23 -> 0
F24: Detailed | I24: =IF($H$16=Assumptions!$J$6,H24*60,IF($H$16=Assumptions!$J$7,H24*3600,H24)) -> 0 | M24: =IF(J24>0,L24*I24/J24/3600,0) -> 0 | P24: =IF(J24>0,(N24*O24)*I24/J24/3600,0) -> 0 | T24: =IF(F24=Assumptions!$I$6,Q24,SUM(M24+P24+Q24+S24)) -> 0 | V24: =T24*U24 -> 0 | X24: =IF(W24=0,"-",W24/Y24) -> - | Y24: =SUM(T24+V24+W24) -> 0 | Z24: =IF(Y24=0,"-",Y24*K24) -> - | AA24: =M24*K24 -> 0 | AB24: =P24*K24 -> 0 | AC24: =IF(F24=Assumptions!$I$5,Q24*K24,0) -> 0 | AD24: =IF(F24=Assumptions!$I$6,Q24*K24,0) -> 0 | AE24: =S24*K24 -> 0 | AF24: =AA24+AC24+AE24 -> 0 | AG24: =V24*K24 -> 0 | AH24: =W24*K24 -> 0 | AI24: =$G$14&": "&G24*100&" %"&" "&$R$14&": "&R24 -> Utilization ratio (only for info.): 0 % Manufacturing lot size (only for info.): | AL24: =IF(J24>0,AK24*I24/J24/3600,0) -> 0 | AN24: =IF(F24=Assumptions!$I$6,AM24,AL24) -> 0 | AP24: =IF(AO24=0,"-",AO24/AQ24) -> - | AQ24: =SUM(AN24+AO24) -> 0 | AR24: =IF(AQ24=0,"-",AQ24*K24) -> - | AS24: =K24*AL24 -> 0 | AT24: =K24*AM24 -> 0 | AU24: =K24*AO24 -> 0
F25: Detailed | I25: =IF($H$16=Assumptions!$J$6,H25*60,IF($H$16=Assumptions!$J$7,H25*3600,H25)) -> 0 | M25: =IF(J25>0,L25*I25/J25/3600,0) -> 0 | P25: =IF(J25>0,(N25*O25)*I25/J25/3600,0) -> 0 | T25: =IF(F25=Assumptions!$I$6,Q25,SUM(M25+P25+Q25+S25)) -> 0 | V25: =T25*U25 -> 0 | X25: =IF(W25=0,"-",W25/Y25) -> - | Y25: =SUM(T25+V25+W25) -> 0 | Z25: =IF(Y25=0,"-",Y25*K25) -> - | AA25: =M25*K25 -> 0 | AB25: =P25*K25 -> 0 | AC25: =IF(F25=Assumptions!$I$5,Q25*K25,0) -> 0 | AD25: =IF(F25=Assumptions!$I$6,Q25*K25,0) -> 0 | AE25: =S25*K25 -> 0 | AF25: =AA25+AC25+AE25 -> 0 | AG25: =V25*K25 -> 0 | AH25: =W25*K25 -> 0 | AI25: =$G$14&": "&G25*100&" %"&" "&$R$14&": "&R25 -> Utilization ratio (only for info.): 0 % Manufacturing lot size (only for info.): | AL25: =IF(J25>0,AK25*I25/J25/3600,0) -> 0 | AN25: =IF(F25=Assumptions!$I$6,AM25,AL25) -> 0 | AP25: =IF(AO25=0,"-",AO25/AQ25) -> - | AQ25: =SUM(AN25+AO25) -> 0 | AR25: =IF(AQ25=0,"-",AQ25*K25) -> - | AS25: =K25*AL25 -> 0 | AT25: =K25*AM25 -> 0 | AU25: =K25*AO25 -> 0
F26: Detailed | I26: =IF($H$16=Assumptions!$J$6,H26*60,IF($H$16=Assumptions!$J$7,H26*3600,H26)) -> 0 | M26: =IF(J26>0,L26*I26/J26/3600,0) -> 0 | P26: =IF(J26>0,(N26*O26)*I26/J26/3600,0) -> 0 | T26: =IF(F26=Assumptions!$I$6,Q26,SUM(M26+P26+Q26+S26)) -> 0 | V26: =T26*U26 -> 0 | X26: =IF(W26=0,"-",W26/Y26) -> - | Y26: =SUM(T26+V26+W26) -> 0 | Z26: =IF(Y26=0,"-",Y26*K26) -> - | AA26: =M26*K26 -> 0 | AB26: =P26*K26 -> 0 | AC26: =IF(F26=Assumptions!$I$5,Q26*K26,0) -> 0 | AD26: =IF(F26=Assumptions!$I$6,Q26*K26,0) -> 0 | AE26: =S26*K26 -> 0 | AF26: =AA26+AC26+AE26 -> 0 | AG26: =V26*K26 -> 0 | AH26: =W26*K26 -> 0 | AI26: =$G$14&": "&G26*100&" %"&" "&$R$14&": "&R26 -> Utilization ratio (only for info.): 0 % Manufacturing lot size (only for info.): | AL26: =IF(J26>0,AK26*I26/J26/3600,0) -> 0 | AN26: =IF(F26=Assumptions!$I$6,AM26,AL26) -> 0 | AP26: =IF(AO26=0,"-",AO26/AQ26) -> - | AQ26: =SUM(AN26+AO26) -> 0 | AR26: =IF(AQ26=0,"-",AQ26*K26) -> - | AS26: =K26*AL26 -> 0 | AT26: =K26*AM26 -> 0 | AU26: =K26*AO26 -> 0
F27: Detailed | I27: =IF($H$16=Assumptions!$J$6,H27*60,IF($H$16=Assumptions!$J$7,H27*3600,H27)) -> 0 | M27: =IF(J27>0,L27*I27/J27/3600,0) -> 0 | P27: =IF(J27>0,(N27*O27)*I27/J27/3600,0) -> 0 | T27: =IF(F27=Assumptions!$I$6,Q27,SUM(M27+P27+Q27+S27)) -> 0 | V27: =T27*U27 -> 0 | X27: =IF(W27=0,"-",W27/Y27) -> - | Y27: =SUM(T27+V27+W27) -> 0 | Z27: =IF(Y27=0,"-",Y27*K27) -> - | AA27: =M27*K27 -> 0 | AB27: =P27*K27 -> 0 | AC27: =IF(F27=Assumptions!$I$5,Q27*K27,0) -> 0 | AD27: =IF(F27=Assumptions!$I$6,Q27*K27,0) -> 0 | AE27: =S27*K27 -> 0 | AF27: =AA27+AC27+AE27 -> 0 | AG27: =V27*K27 -> 0 | AH27: =W27*K27 -> 0 | AI27: =$G$14&": "&G27*100&" %"&" "&$R$14&": "&R27 -> Utilization ratio (only for info.): 0 % Manufacturing lot size (only for info.): | AL27: =IF(J27>0,AK27*I27/J27/3600,0) -> 0 | AN27: =IF(F27=Assumptions!$I$6,AM27,AL27) -> 0 | AP27: =IF(AO27=0,"-",AO27/AQ27) -> - | AQ27: =SUM(AN27+AO27) -> 0 | AR27: =IF(AQ27=0,"-",AQ27*K27) -> - | AS27: =K27*AL27 -> 0 | AT27: =K27*AM27 -> 0 | AU27: =K27*AO27 -> 0
F28: Detailed | I28: =IF($H$16=Assumptions!$J$6,H28*60,IF($H$16=Assumptions!$J$7,H28*3600,H28)) -> 0 | M28: =IF(J28>0,L28*I28/J28/3600,0) -> 0 | P28: =IF(J28>0,(N28*O28)*I28/J28/3600,0) -> 0 | T28: =IF(F28=Assumptions!$I$6,Q28,SUM(M28+P28+Q28+S28)) -> 0 | V28: =T28*U28 -> 0 | X28: =IF(W28=0,"-",W28/Y28) -> - | Y28: =SUM(T28+V28+W28) -> 0 | Z28: =IF(Y28=0,"-",Y28*K28) -> - | AA28: =M28*K28 -> 0 | AB28: =P28*K28 -> 0 | AC28: =IF(F28=Assumptions!$I$5,Q28*K28,0) -> 0 | AD28: =IF(F28=Assumptions!$I$6,Q28*K28,0) -> 0 | AE28: =S28*K28 -> 0 | AF28: =AA28+AC28+AE28 -> 0 | AG28: =V28*K28 -> 0 | AH28: =W28*K28 -> 0 | AI28: =$G$14&": "&G28*100&" %"&" "&$R$14&": "&R28 -> Utilization ratio (only for info.): 0 % Manufacturing lot size (only for info.): | AL28: =IF(J28>0,AK28*I28/J28/3600,0) -> 0 | AN28: =IF(F28=Assumptions!$I$6,AM28,AL28) -> 0 | AP28: =IF(AO28=0,"-",AO28/AQ28) -> - | AQ28: =SUM(AN28+AO28) -> 0 | AR28: =IF(AQ28=0,"-",AQ28*K28) -> - | AS28: =K28*AL28 -> 0 | AT28: =K28*AM28 -> 0 | AU28: =K28*AO28 -> 0
... F31: Detailed | I31: =IF($H$16=Assumptions!$J$6,H31*60,IF($H$16=Assumptions!$J$7,H31*3600,H31)) -> 0 | M31: =IF(J31>0,L31*I31/J31/3600,0) -> 0 | P31: =IF(J31>0,(N31*O31)*I31/J31/3600,0) -> 0 | T31: =IF(F31=Assumptions!$I$6,Q31,SUM(M31+P31+Q31+S31)) -> 0 | V31: =T31*U31 -> 0 | X31: =IF(W31=0,"-",W31/Y31) -> - | Y31: =SUM(T31+V31+W31) -> 0 | Z31: =IF(Y31=0,"-",Y31*K31) -> - | AA31: =M31*K31 -> 0 | AB31: =P31*K31 -> 0 | AC31: =IF(F31=Assumptions!$I$5,Q31*K31,0) -> 0 | AD31: =IF(F31=Assumptions!$I$6,Q31*K31,0) -> 0 | AE31: =S31*K31 -> 0 | AF31: =AA31+AC31+AE31 -> 0 | AG31: =V31*K31 -> 0 | AH31: =W31*K31 -> 0 | AI31: =$G$14&": "&G31*100&" %"&" "&$R$14&": "&R31 -> Utilization ratio (only for info.): 0 % Manufacturing lot size (only for info.): | AL31: =IF(J31>0,AK31*I31/J31/3600,0) -> 0 | AN31: =IF(F31=Assumptions!$I$6,AM31,AL31) -> 0 | AP31: =IF(AO31=0,"-",AO31/AQ31) -> - | AQ31: =SUM(AN31+AO31) -> 0 | AR31: =IF(AQ31=0,"-",AQ31*K31) -> - | AS31: =K31*AL31 -> 0 | AT31: =K31*AM31 -> 0 | AU31: =K31*AO31 -> 0
F32: Detailed | I32: =IF($H$16=Assumptions!$J$6,H32*60,IF($H$16=Assumptions!$J$7,H32*3600,H32)) -> 0 | M32: =IF(J32>0,L32*I32/J32/3600,0) -> 0 | P32: =IF(J32>0,(N32*O32)*I32/J32/3600,0) -> 0 | T32: =IF(F32=Assumptions!$I$6,Q32,SUM(M32+P32+Q32+S32)) -> 0 | V32: =T32*U32 -> 0 | W32: =0%*(T32+V32+0%*(T32+V32)) -> 0 | X32: =IF(W32=0,"-",W32/Y32) -> - | Y32: =SUM(T32+V32+W32) -> 0 | Z32: =IF(Y32=0,"-",Y32*K32) -> - | AA32: =M32*K32 -> 0 | AB32: =P32*K32 -> 0 | AC32: =IF(F32=Assumptions!$I$5,Q32*K32,0) -> 0 | AD32: =IF(F32=Assumptions!$I$6,Q32*K32,0) -> 0 | AE32: =S32*K32 -> 0 | AF32: =AA32+AC32+AE32 -> 0 | AG32: =V32*K32 -> 0 | AH32: =W32*K32 -> 0 | AI32: =$G$14&": "&G32*100&" %"&" "&$R$14&": "&R32 -> Utilization ratio (only for info.): 0 % Manufacturing lot size (only for info.): | AL32: =IF(J32>0,AK32*I32/J32/3600,0) -> 0 | AN32: =IF(F32=Assumptions!$I$6,AM32,AL32) -> 0 | AP32: =IF(AO32=0,"-",AO32/AQ32) -> - | AQ32: =SUM(AN32+AO32) -> 0 | AR32: =IF(AQ32=0,"-",AQ32*K32) -> - | AS32: =K32*AL32 -> 0 | AT32: =K32*AM32 -> 0 | AU32: =K32*AO32 -> 0
B34: Manuf. | D34: For Level 2: calculation quality "Detailed" is mandatory for all in-house manufacturing steps - Machine Hourly rate (contains Utilization ratio) : for each step usage of MHR Tab recommended - Total labor hourly rate (contains Utilization ratio) : usage of LHR Tab recommended | K34: =VLOOKUP("P24",Languages!A:J,VLOOKUP(Summary!X6,Languages!$C$2:$D$10,2,FALSE),FALSE) -> Sums | M34: =VLOOKUP(M13,Languages!A:J,VLOOKUP(Summary!X6,Languages!$C$2:$D$10,2,FALSE),FALSE) -> Machine costs | P34: =VLOOKUP("P25",Languages!A:J,VLOOKUP(Summary!X6,Languages!$C$2:$D$10,2,FALSE),FALSE) -> Labor | Q34: =VLOOKUP("P26",Languages!A:J,VLOOKUP(Summary!X6,Languages!$C$2:$D$10,2,FALSE),FALSE) -> Setup | S34: =VLOOKUP("P27",Languages!A:J,VLOOKUP(Summary!X6,Languages!$C$2:$D$10,2,FALSE),FALSE) -> Tool maint. | U34: =VLOOKUP("P30",Languages!A:J,VLOOKUP(Summary!X6,Languages!$C$2:$D$10,2,FALSE),FALSE) -> Man. OH | W34: =VLOOKUP("P31",Languages!A:J,VLOOKUP(Summary!X6,Languages!$C$2:$D$10,2,FALSE),FALSE) -> Scrap | Z34: =VLOOKUP("P32",Languages!A:J,VLOOKUP(Summary!X6,Languages!$C$2:$D$10,2,FALSE),FALSE) -> Manufacturing costs | AA34: =SUM(AA16:AA32) -> 0 | AB34: =SUM(AB16:AB32) -> 0 | AC34: =SUM(AC16:AC32) -> 0 | AD34: =SUM(AD16:AD32) -> 0 | AE34: =SUM(AE16:AE32) -> 0 | AF34: =SUM(AF16:AF32) -> 0 | AG34: =SUM(AG16:AG32) -> 0 | AH34: =SUM(AH16:AH32) -> 0 | AR34: =VLOOKUP("P40",Languages!A:J,VLOOKUP(Summary!X6,Languages!$C$2:$D$10,2,FALSE),FALSE) -> Total PCF | AS34: =SUM(AS16:AS32) -> 0 | AT34: =SUM(AT16:AT32) -> 0 | AU34: =SUM(AU16:AU32) -> 0
B35: =VLOOKUP("P23",Languages!A:J,VLOOKUP(Summary!X6,Languages!$C$2:$D$10,2,FALSE),FALSE) -> Comments | M35: =SUM(M16:M32) -> 0 | P35: =SUM(P16:P32) -> 0 | Q35: =SUM(Q16:Q32) -> 0 | S35: =SUM(S16:S32) -> 0 | V35: =SUM(V16:V32) -> 0 | W35: =SUM(W16:W32) -> 0 | Z35: =SUM(Z16:Z32) -> 0 | AR35: =SUM(AR16:AR32) -> 0
S36: =M35+Q35 -> 0
S37: =S35+S36 -> 0

Sheet Tools and Devices (16,24)
E3: =Summary!F3 -> BOSCH Material and Process Evaluation (MPE) | L3: =VLOOKUP("f",Languages!A:J,VLOOKUP(Summary!X6,Languages!$C$2:$D$10,2,FALSE),FALSE) -> Tools and Devices
L5: =Summary!W5 -> Version | M5: =Summary!X5 -> 4.1
L6: =Summary!W6 -> Language | M6: =Summary!X6 -> English
E7: =Summary!G7 -> Supplier | G7: =IF(Summary!O7=0,"",Summary!O7) | J7: =VLOOKUP("0.01",Languages!A:J,VLOOKUP(Summary!X6,Languages!$C$2:$D$10,2,FALSE),FALSE) -> Field | K7: =Summary!T7 -> Project | L7: =IF(Summary!V7=0,"",Summary!V7)
E8: =Summary!G8 -> Contact person | G8: =IF(Summary!O8=0,"",Summary!O8) | J8: =VLOOKUP("0.02",Languages!A:J,VLOOKUP(Summary!X6,Languages!$C$2:$D$10,2,FALSE),FALSE) -> Level 1 | K8: =Summary!T8 -> Part number | L8: =IF(Summary!V8=0,"",Summary!V8)
E9: =Summary!G9 -> E-Mail | G9: =IF(Summary!O9=0,"",Summary!O9) | J9: =VLOOKUP("0.03",Languages!A:J,VLOOKUP(Summary!X6,Languages!$C$2:$D$10,2,FALSE),FALSE) -> Level 2 | K9: =Summary!T9 -> Part name | L9: =IF(Summary!V9=0,"",Summary!V9)
E10: =Summary!G10 -> Telephone | G10: =IF(Summary!O10=0,"",Summary!O10) | J10: =VLOOKUP("0.04",Languages!A:J,VLOOKUP(Summary!X6,Languages!$C$2:$D$10,2,FALSE),FALSE) -> calculated | K10: =Summary!T10 -> Quotation date | L10: =IF(Summary!V10=0,"",Summary!V10)
B12: =VLOOKUP("I01",Languages!A:J,VLOOKUP(Summary!X6,Languages!$C$2:$D$10,2,FALSE),FALSE) -> General inputs | G12: =VLOOKUP("I02",Languages!A:J,VLOOKUP(Summary!X6,Languages!$C$2:$D$10,2,FALSE),FALSE) -> Cost inputs | P12: =VLOOKUP("I03",Languages!A:J,VLOOKUP(Summary!X6,Languages!$C$2:$D$10,2,FALSE),FALSE) -> Carbon footprint inputs
B13: =VLOOKUP("I04",Languages!A:J,VLOOKUP(Summary!X6,Languages!$C$2:$D$10,2,FALSE),FALSE) -> Life time quantity: | D13: =Summary!D14*Summary!D15 -> 0
B14: I1 | C14: I2 | D14: I3 | E14: I8 | F14: I12 | G14: I4 | H14: I5 | I14: I6 | J14: I7 | K14: I9 | L14: I10 | M14: I11 | N14: I13 | P14: I20 | Q14: I21
B15: =VLOOKUP("I1",Languages!A:J,VLOOKUP(Summary!X6,Languages!$C$2:$D$10,2,FALSE),FALSE) -> Manufacturing step no. | C15: =VLOOKUP("I2",Languages!A:J,VLOOKUP(Summary!X6,Languages!$C$2:$D$10,2,FALSE),FALSE) -> Designation Tool / Device | D15: =VLOOKUP("I3",Languages!A:J,VLOOKUP(Summary!X6,Languages!$C$2:$D$10,2,FALSE),FALSE) -> Service life in cycles | E15: =VLOOKUP("I8",Languages!A:J,VLOOKUP(Summary!X6,Languages!$C$2:$D$10,2,FALSE),FALSE) -> Number (lifetime) | F15: =VLOOKUP("I12",Languages!A:J,VLOOKUP(Summary!X6,Languages!$C$2:$D$10,2,FALSE),FALSE) -> Usage from P20 Manufacturing (6,7,8,9) | G15: =VLOOKUP("I4",Languages!A:J,VLOOKUP(Summary!X6,Languages!$C$2:$D$10,2,FALSE),FALSE) -> Purchasing currency | H15: =VLOOKUP("I5",Languages!A:J,VLOOKUP(Summary!X6,Languages!$C$2:$D$10,2,FALSE),FALSE) -> Investment in purchasing currency | I15: =VLOOKUP("I6",Languages!A:J,VLOOKUP(Summary!X6,Languages!$C$2:$D$10,2,FALSE),FALSE) -> Rate of exchange (AW/BW) | J15: =VLOOKUP("I7",Languages!A:J,VLOOKUP(Summary!X6,Languages!$C$2:$D$10,2,FALSE),FALSE) -> Investment in quotation currency | K15: =VLOOKUP("I9",Languages!A:J,VLOOKUP(Summary!X6,Languages!$C$2:$D$10,2,FALSE),FALSE) -> Total lifetime investment | L15: =VLOOKUP("I10",Languages!A:J,VLOOKUP(Summary!X6,Languages!$C$2:$D$10,2,FALSE),FALSE) -> One-time payments | M15: =VLOOKUP("I11",Languages!A:J,VLOOKUP(Summary!X6,Languages!$C$2:$D$10,2,FALSE),FALSE) -> Allocated costs | N15: =VLOOKUP("I13",Languages!A:J,VLOOKUP(Summary!X6,Languages!$C$2:$D$10,2,FALSE),FALSE) -> Allocated costs total | P15: =VLOOKUP("I20",Languages!A:J,VLOOKUP(Summary!X6,Languages!$C$2:$D$10,2,FALSE),FALSE) -> Carbon footprint | Q15: =VLOOKUP("I21",Languages!A:J,VLOOKUP(Summary!X6,Languages!$C$2:$D$10,2,FALSE),FALSE) -> Carbon footprint total
J16: =Summary!D18 -> 0 | K16: =Summary!D18 -> 0 | L16: =Summary!D18 -> 0 | M16: =Summary!D18 -> 0 | N16: =Summary!D18 -> 0 | P16: kg Co2e | Q16: kg Co2e
F17: =VLOOKUP(13.5,Languages!A:J,VLOOKUP(Summary!X6,Languages!$C$2:$D$10,2,FALSE),FALSE) -> units | J17: =VLOOKUP(13.3,Languages!A:J,VLOOKUP(Summary!X6,Languages!$C$2:$D$10,2,FALSE),FALSE) -> /unit | M17: =VLOOKUP(13.3,Languages!A:J,VLOOKUP(Summary!X6,Languages!$C$2:$D$10,2,FALSE),FALSE) -> /unit | N17: =VLOOKUP(13.6,Languages!A:J,VLOOKUP(Summary!X6,Languages!$C$2:$D$10,2,FALSE),FALSE) -> /quot. Unit | P17: =VLOOKUP(13.3,Languages!A:J,VLOOKUP(Summary!X6,Languages!$C$2:$D$10,2,FALSE),FALSE) -> /unit | Q17: =VLOOKUP(13.6,Languages!A:J,VLOOKUP(Summary!X6,Languages!$C$2:$D$10,2,FALSE),FALSE) -> /quot. Unit
F18: =IF(ISBLANK(B18),"-",(VLOOKUP(B18,'Manufacturing (6,7,8,9)'!$B$16:$Z$200,10,FALSE))) -> - | J18: =H18*I18 -> 0 | K18: =J18*E18 -> 0 | N18: =IF(ISBLANK(M18),"-",M18*F18) -> - | O18: =$D$15&": "&D18&" "&$G$15&": "&G18&" "&$H$15&": "&H18&" "&$I$15&": "&I18&" "&$J$15&": "&J18&" "&$E$15&": "&E18&" "&$K$15&": "&K18 -> Service life in cycles: Purchasing currency: Investment in purchasing currency: Rate of exchange (AW/BW): Investment in quotation currency: 0 Number (lifetime): Total lifetime investment: 0 | Q18: =IF(ISBLANK(P18),"-",P18*F18) -> -
