Workbook
Name List_of_Status: #REF!
Name target1: [0]!target

Sheet 01_Procedure
F2: Early Production Containment - Requirements and procedure
C7: 1. Definition and purpose
C9: The objective of Early Production Containment is to verify and validate the supplier's series process. It is an additional quality gate to ensure quality in the ramp-up phase (e.g. additional inspection, 100% visual inspection) in order to detect potential failures before shipping. Additional inspections are documented in the Launch Control Plan (LCP).
C11: Early Production Containment should ensure that
D12: ="- quality risks can be avoided, detected and eliminated at the earliest possible phase" -> - quality risks can be avoided, detected and eliminated at the earliest possible phase
D13: ="- lessons learned of other Bosch projects will be applied" -> - lessons learned of other Bosch projects will be applied
D14: ="- Process-FMEA and the supplier's control plan are validated" -> - Process-FMEA and the supplier's control plan are validated
D15: ="- zero-failure-goal is visibly implemented" -> - zero-failure-goal is visibly implemented
D16: ="- In case of specific ppm/PLKZ agreements with the supplier, upper control limits will be met" -> - In case of specific ppm/PLKZ agreements with the supplier, upper control limits will be met
C19: 2. Scope and duration
C21: Early Production Containment must be conducted for a period of time or quantity of parts as specified in the Technical Supplier Discussion (TLG) (see Agreement for Early Production Containment between Supplier and Robert Bosch). Type and scope of 100% visual inspections and measurements are based on characteristics which are both determined by the supplier and Bosch. The attached checklist (see tab 02 "Checklist for identification of LCP-characteristics") should be used to identify characteristics for the Launch Control Plan. The supplier and Bosch agree on exit criteria which will allow the supplier to end Early Production Containment. It is recommended to start with Early Production Containment in C- Sammple phase, mandatory latest with SOP. Type and scope of additional inspections for Early Production Containment are documented in the LCP as well as exit criteria (see tab 03 "Launch Control Plan").
C24: 3. Supplier responsibility
C26: 1. | D26: The supplier is responsible for the execution and observation of Early Production Containment. Identify the staff person responsible for ensuring the implementation of Early Production Containment at supplier's location. The supplier has to plan his capacity according to Early Production Containment so that no delivery bottlenecks will occure.
C28: 2. | D28: For the duration of Early Production Containment all parts have to be inspected visually on a separated visual control station. These control stations must be off-line, separate and independent from the normal manufacturing process and located before packaging process. Qualified staff has to be installed at the control stations. The supplier has to create qualification matrix and inspection plan.
C30: 3. | D30: Increase sample size and/or frequency of continuous serial inspections for LCP-characteristics as defined in the LCP.
C32: 4. | D32: Analyse detected failures during Early Production Containment. Identify unstable processes and define corrective actions (see tab 05 "OPL").
C34: 5. | D34: In case of non-conformities document problem solving for both internal and Bosch quality concerns utilizing 8D-method and update Process- FMEA and control plan as appropriate.
C36: 6. | D36: Report LCP failure-pareto analysis (see tab 04 "Tracking chart") to PMQ regularly to monitor the trend and evaluate initiated actions (see tab 05 "OPL"). The supplier is responsible to contact the TSC-engineer for review.
C38: 7. | D38: Label each package unit with a sticker which ran through 100% visual inspection. This label should contain the responsible inspector and date of inspection.
C41: 4. Finalization of Early Production Containment
C43: The supplier will be able to close Early Production Containment procedure when
D44: ="- scope/duration specified in point 3 are fulfilled and exit criteria is met for all LCP-characteristics" -> - scope/duration specified in point 3 are fulfilled and exit criteria is met for all LCP-characteristics
D45: ="- all corrective actions are completed and verified" -> - all corrective actions are completed and verified
D46: ="- Early Production Containment results are implemented in Process-FMEA" -> - Early Production Containment results are implemented in Process-FMEA
C48: If the supplier is unable to meet the exit criteria, the supplier should continue Early Production Containment procedure until all open points are solved to the satisfaction of both the supplier and Bosch.
C50: The decision to close Early Production Containment is carried out and discussed in a meeting between the supplier and Bosch after all required documentation is submitted. The finalization of Early Production Containment is determined on the LCP with the signature of the Supplier Quality Engineer and the responsible PMQ-engineer.
C53: 5. Consequences of shipping non-conforming parts
C55: If non-conformities are continuously detected at the Bosch plant during Early Production Containment (claims, abnormalities), Bosch will conclude that the additional quality gate is not effective at supplier. In this case an additional quality gate (third party inspection) will be mandatory implemented and paid by supplier.

Sheet 02_Checklist LCP-charact.
C2: Checklist for identification of LCP-characteristics
B4: Occurrence of non-conformity | C4: Input from (supplier / Bosch-department) | D4: Non-conformity detected | E4: Defined characteristic | F4: Characteristic for LCP | G4: Reasons for non-consideration / Comments
B5: Preventive Quality Element
B6: Feasability study | C6: supplier
L7: yes | M7: yes
L8: no | M8: no
B9: Technical supplier discussion | C9: supplier / PMQ / ENG / TSC | L9: n.a.
B12: ICL | C12: PMQ
B15: Design-FMEA | C15: ENG
B18: Process-FMEA | C18: supplier
B21: Measurement comparison | C21: supplier / PQA / PMQ
B24: Process release / run@rate | C24: PMQ
B27: PPA/PPAP / concession | C27: PMQ / TSC / PQA
B30: Critical processes / requirements (e.g. cleanliness requirements, risk of burrs and chips) | C30: TSC
B33: Further irregularities at:
B34: Internal process release | C34: supplier
B37: Experience with similar parts | C37: supplier
B40: testing / project phase / sample shop | C40: PMQ / ENG
B43: 8D´s in sample phase | C43: PMQ / ENG
B46: LL from former projects | C46: PMQ / ENG
B49: production and inspection at RB (e.g. assembly) | C49: PQA / MFG
B52: EOL-test at RB | C52: PQA / MFG
B55: LL from quality issues former projects (field, 0 km, other claims) | C55: QMM / PQA / ENG
B58: LL concessions former projects | C58: PMQ / PQA / TSC
B63: ENG - Engineering
B64: MFG - Manufacturing Bosch plant
B65: PMQ - Project Management Quality
B66: PQA - Plant Quality Automotive
B67: QMM - Quality Management Bosch plant
B68: TSC - Technical Service Center

Sheet 03_Launch Control Plan
C2: Launch Control Plan
B6: I. Key information
D7: Supplier | H7: xxx | O7: Supplier quality engineer | S7: xxx | Z7: Comments | AB7: Results to be reviewed weekly on regular meeting
D8: Supplier no (RBSNO) | H8: xxx | O8: RB-PMQ-Engineer | S8: xxx | AB8: Delivery information to be provided:
D9: Site location | H9: xxx | O9: RB-TSC-Engineer | S9: xxx | AB9: - Label on pallets "Parts under EPC controls"
O10: RB-PQA-Engineer | S10: xxx | AB10: - Production week/delivery note link
D11: Part name | H11: xxx
D12: Part no | H12: xxx | O12: Start date | S12: xxx | AB12: EPC defined duration: 10,000 parts
D13: Line no | H13: xxx | O13: Revision date | S13: xxx | AB13: * porosity rejection criteria 10,000 parts OK
B16: II. LCP definition
AB17: Evaluation
D18: No | E18: LCP-characteristic | K18: Inspection method | Q18: Frequency | T18: Sample size | X18: Exit criteria | AB18: Result | AH18: OK / NOK
D19: 1 | E19: ICL characteristics (dimensions - after machining) | K19: CMM Report - Qdas Report Capabilities | Q19: Acc EPC Control Plan | T19: Acc EPC Control Plan | X19: No rejects parts first 10,000 parts Capabilities Cmk < 1.67 Ppk < 1.67 | AN19: OK
D20: 2 | E20: Porosity: X-RAY / CT SCAN / GOM Mech Properties | K20: Acc to Standars Bosch EPC Control Plan | Q20: 1 part / shift / per test | T20: 1 part / shift / per test | X20: No rejects parts first 10,000 parts | AN20: NOK
D21: 3 | E21: Ejector Pin Bosses: Verify compliance with drawing requirement ( Depend of Part and DRW Requirement) No excessive protrusion, sink marks, cracks, or surface defects permitted. | K21: Visual Acc Limit Sample Catalog Visual scale / Gauge go -no go | Q21: 1 | T21: each part | X21: No rejects parts first 10,000 parts
D22: 4 | E22: No mechanical damages on machined surfaces | K22: Visual Acc Limit Sample Catalog | Q22: 1 | T22: each part | X22: No rejects parts first 10,000 parts
D23: 5 | E23: Surface: porosity on machined areas | K23: Visual Acc Limit Sample Catalog | Q23: 1 | T23: each part | X23: No rejects parts first 10,000 parts
D24: 6 | E24: Cleanliness | K24: Microscopic Analysis Acc to Standars Bosch EPC Control Plan Technical Cleanliness Report | Q24: 1 per / week | T24: Acc EPC Control Plan | X24: No rejects parts first 10,000 parts
D25: 7 | E25: Presence of Components (Example: Protective Cap, Pins, Bearing) | K25: Visual | Q25: 1 | T25: each part | X25: No rejects parts first 10,000 parts
D26: 8 | E26: Free Of Rust/Corrosion/Oxidation | K26: Visual | Q26: 1 | T26: each part | X26: No rust in acc. Criteria
D27: 9 | E27: Verify presence and condition DMC | K27: Visual | Q27: 1 | T27: each part | X27: All tests acc. Spec
D28: 10 | E28: Verify with a scanner DMC contains the required information (100% scanning) | K28: Scanner | Q28: Acc EPC Control Plan | T28: Acc EPC Control Plan | X28: No rejects parts first 10,000 parts
D29: 11 | E29: ICL characteristic (dimensions - after assembly) | K29: CMM (except where controlled with gauge) | Q29: Acc EPC Control Plan | T29: Acc EPC Control Plan | X29: No rejects parts first 10,000 parts Capabilities Cmk < 1.67 Ppk < 1.67
D30: 12 | E30: Leak Test | K30: Automatic | Q30: 1 | T30: each part | X30: All tests acc. Spec Capabilities Cmk < 1.67 Ppk < 1.67
D31: 13 | E31: Presence of the Threads | K31: Visual | Q31: 1 | T31: each part | X31: All tests acc. Spec
D32: 14 | E32: No damage or contamination to the Threads | K32: Visual | Q32: 1 | T32: each part | X32: All tests acc. Spec
D33: 15 | E33: Presence & Position (Example: Protective Cap, Pins, Bearing) | K33: Acc to Standars Bosch EPC Control Plan | Q33: Acc EPC Control Plan | T33: Acc EPC Control Plan | X33: No rejects parts first 10,000 parts Capabilities Cmk < 1.67 Ppk < 1.67
D34: 16 | E34: Pull of test ( Example: Water Conector) | K34: Acc to Standars Bosch EPC Control Plan | Q34: 1 per /week | T34: Acc EPC Control Plan | X34: No rejects parts first 10,000 parts
D35: 17 | E35: Peel of Test (Rev DRW Areas) ALL SEALING SURFACES FOR ALL THREADS UP TO DEPTH 2x NOMINAL SCREW DIAMETER / | K35: Acc to Standars Bosch EPC Control Plan | Q35: 1 per /week | T35: Acc EPC Control Plan | X35: No rejects parts first 10,000 parts
D36: 18 | E36: Free of burrs, chips, residues or contamination in the bores | K36: Visual | Q36: 1 | T36: each part | X36: All tests acc. Spec
D37: 19 | E37: Verify that all trimmed overflows and trimming ribs do not exceed 2 mm width and that residual height after trimming is within ±1 mm. Verify that all gating rib remnants do not exceed 4 mm width and that residual height after trimming is within ±3 mm. No sharp edges, loose material, cracks, or trimming-related defects permitted. | K37: Acc to Standars Bosch EPC /Control Plan Visual scale / Gauge go -no go | Q37: Beginning, Middle, and End of shift | T37: 3 parts / shift | X37: No rejects parts first 10,000 parts
D38: 20 | E38: Heat Cracks / Scratch / Dents / Tool Mark / Scratches on sealing surfaces | K38: Acc to theLimit Sample Catalog | Q38: 1 | T38: each part | X38: All tests acc. Spec
D39: (add extra line if necessary)
D41: Are all exit criteria met ? (yes/no)
D42: Date exited from LCP
B45: III. Overview of total non-conformities
L46: =IF('04_Tracking chart'!J7=0,"",'04_Tracking chart'!J7) -> CW01 | N46: =IF('04_Tracking chart'!L7=0,"",'04_Tracking chart'!L7) -> CW02 | P46: =IF('04_Tracking chart'!N7=0,"",'04_Tracking chart'!N7) -> CW03 | R46: =IF('04_Tracking chart'!P7=0,"",'04_Tracking chart'!P7) -> CW04 | T46: =IF('04_Tracking chart'!R7=0,"",'04_Tracking chart'!R7) -> CW05 | V46: =IF('04_Tracking chart'!T7=0,"",'04_Tracking chart'!T7) -> CW06 | X46: =IF('04_Tracking chart'!V7=0,"",'04_Tracking chart'!V7) -> CW07 | Z46: =IF('04_Tracking chart'!X7=0,"",'04_Tracking chart'!X7) -> CW08 | AB46: =IF('04_Tracking chart'!Z7=0,"",'04_Tracking chart'!Z7) -> CW09 | AD46: =IF('04_Tracking chart'!AB7=0,"",'04_Tracking chart'!AB7) -> CW10 | AF46: =IF('04_Tracking chart'!AD7=0,"",'04_Tracking chart'!AD7) -> CW11 | AH46: =IF('04_Tracking chart'!AF7=0,"",'04_Tracking chart'!AF7) -> CW12
L47: Suppl. | M47: Bosch | N47: Suppl. | O47: Bosch | P47: Suppl. | Q47: Bosch | R47: Suppl. | S47: Bosch | T47: Suppl. | U47: Bosch | V47: Suppl. | W47: Bosch | X47: Suppl. | Y47: Bosch | Z47: Suppl. | AA47: Bosch | AB47: Suppl. | AC47: Bosch | AD47: Suppl. | AE47: Bosch | AF47: Suppl. | AG47: Bosch | AH47: Suppl. | AI47: Bosch
J48: Quantity non-conformed parts per week | L48: =SUM('04_Tracking chart'!J9:J27) -> 0 | M48: =SUM('04_Tracking chart'!K9:K27) -> 0 | N48: =SUM('04_Tracking chart'!L9:L27) -> 0 | O48: =SUM('04_Tracking chart'!M9:M27) -> 0 | P48: =SUM('04_Tracking chart'!N9:N27) -> 0 | Q48: =SUM('04_Tracking chart'!O9:O27) -> 0 | R48: =SUM('04_Tracking chart'!P9:P27) -> 0 | S48: =SUM('04_Tracking chart'!Q9:Q27) -> 0 | ... AI48: =SUM('04_Tracking chart'!AG9:AG27) -> 0
J49: Quantity produced parts per week | L49: =IF('04_Tracking chart'!J29<0,"",'04_Tracking chart'!J29) -> 0 | N49: =IF('04_Tracking chart'!L29<0,"",'04_Tracking chart'!L29) -> 0 | P49: =IF('04_Tracking chart'!N29<0,"",'04_Tracking chart'!N29) -> 0 | R49: =IF('04_Tracking chart'!P29<0,"",'04_Tracking chart'!P29) -> 0 | T49: =IF('04_Tracking chart'!R29<0,"",'04_Tracking chart'!R29) -> 0 | V49: =IF('04_Tracking chart'!T29<0,"",'04_Tracking chart'!T29) -> 0 | X49: =IF('04_Tracking chart'!V29<0,"",'04_Tracking chart'!V29) -> 0 | Z49: =IF('04_Tracking chart'!X29<0,"",'04_Tracking chart'!X29) -> 0 | AB49: =IF('04_Tracking chart'!Z29<0,"",'04_Tracking chart'!Z29) -> 0 | AD49: =IF('04_Tracking chart'!AB29<0,"",'04_Tracking chart'!AB29) -> 0 | AF49: =IF('04_Tracking chart'!AD29<0,"",'04_Tracking chart'!AD29) -> 0 | AH49: =IF('04_Tracking chart'!AF29<0,"",'04_Tracking chart'!AF29) -> 0
...

Sheet 04_Tracking chart
F2: Non-conformities tracking chart
C7: No | D7: LCP-characteristic | J7: CW01 | L7: CW02 | N7: CW03 | P7: CW04 | R7: CW05 | T7: CW06 | V7: CW07 | X7: CW08 | Z7: CW09 | AB7: CW10 | AD7: CW11 | AF7: CW12
J8: Suppl. | K8: Bosch | L8: Suppl. | M8: Bosch | N8: Suppl. | O8: Bosch | P8: Suppl. | Q8: Bosch | R8: Suppl. | S8: Bosch | T8: Suppl. | U8: Bosch | V8: Suppl. | W8: Bosch | X8: Suppl. | Y8: Bosch | Z8: Suppl. | AA8: Bosch | AB8: Suppl. | AC8: Bosch | AD8: Suppl. | AE8: Bosch | AF8: Suppl. | AG8: Bosch
C9: 1 | D9: =IF('03_Launch Control Plan'!E19=0,"",'03_Launch Control Plan'!E19) -> ICL characteristics (dimensions - after machining)
C10: 2 | D10: =IF('03_Launch Control Plan'!E20=0,"",'03_Launch Control Plan'!E20) -> Porosity: X-RAY / CT SCAN / GOM Mech Properties
C11: 3 | D11: =IF('03_Launch Control Plan'!E22=0,"",'03_Launch Control Plan'!E22) -> No mechanical damages on machined surfaces
C12: 4 | D12: =IF('03_Launch Control Plan'!E23=0,"",'03_Launch Control Plan'!E23) -> Surface: porosity on machined areas
C13: 5 | D13: =IF('03_Launch Control Plan'!E24=0,"",'03_Launch Control Plan'!E24) -> Cleanliness
C14: 6 | D14: =IF('03_Launch Control Plan'!E25=0,"",'03_Launch Control Plan'!E25) -> Presence of Components (Example: Protective Cap, Pins, Bearing)
C15: 10 | D15: =IF('03_Launch Control Plan'!E26=0,"",'03_Launch Control Plan'!E26) -> Free Of Rust/Corrosion/Oxidation
C16: 11 | D16: =IF('03_Launch Control Plan'!E27=0,"",'03_Launch Control Plan'!E27) -> Verify presence and condition DMC
C17: 12 | D17: =IF('03_Launch Control Plan'!E28=0,"",'03_Launch Control Plan'!E28) -> Verify with a scanner DMC contains the required information (100% scanning)
C18: 13 | D18: =IF('03_Launch Control Plan'!E29=0,"",'03_Launch Control Plan'!E29) -> ICL characteristic (dimensions - after assembly)
C19: 14 | D19: =IF('03_Launch Control Plan'!E30=0,"",'03_Launch Control Plan'!E30) -> Leak Test
C20: 15 | D20: =IF('03_Launch Control Plan'!E31=0,"",'03_Launch Control Plan'!E31) -> Presence of the Threads
C21: 16 | D21: =IF('03_Launch Control Plan'!E32=0,"",'03_Launch Control Plan'!E32) -> No damage or contamination to the Threads
C22: 17 | D22: =IF('03_Launch Control Plan'!E33=0,"",'03_Launch Control Plan'!E33) -> Presence & Position (Example: Protective Cap, Pins, Bearing)
... C25: 20 | D25: =IF('03_Launch Control Plan'!E36=0,"",'03_Launch Control Plan'!E36) -> Free of burrs, chips, residues or contamination in the bores
C26: 21 | D26: =IF('03_Launch Control Plan'!E38=0,"",'03_Launch Control Plan'!E38) -> Heat Cracks / Scratch / Dents / Tool Mark / Scratches on sealing surfaces
C27: (add extra line if necessary)
C29: Quantity of produced parts per week

Sheet 05_OPL
B2: Open Point List (OPL)
A4: No. | B4: Date | C4: Failure category | D4: Root cause | E4: Action | F4: Due date | G4: Responsible | H4: Status | I4: Comment
L12: done
L13: in progress
L14: open
L15: on hold

Sheet Explanations
G2: Explaination to "Attachment Early Production Containment"
C7: ! The "Attachment Early Production Containment" summarizes all required documentation for the implementation of Early Production Containment at supplier's location!
C10: 1. Tab "Procedure"
C12: Contains all requirements and responsibilities mandatory for the supplier.
C14: 2. Tab "Checklist LCP-charact."
C16: The checklist is used as a structured approach for identifing all characteristics for the Launch Control Plan. The usage of each element is optional.
C18: example:
C20: Occurence of non-conformity | H20: Input from | J20: Non-conformity detected | L20: Defined characteristic | Q20: Charact. for LCP | S20: Reasons for non-consideration / Comments
C21: preventive quality element
C22: Feasability study | H22: supplier | J22: no
C25: Technical supplier discussion | H25: supplier / PMQ / ENG / TSC | J25: yes | L25: overmolded / undermolded | Q25: yes
L26: position conductor
C28: Crtitical processes / requirements | H28: TSC | J28: yes | L28: cleanliness | Q28: yes
L29: burrs | Q29: yes
C32: Experience with similar parts | H32: supplier | J32: yes | L32: perpendicularity pins to housing | Q32: yes
L33: pins missing
C35: production and inspection at RB (e.g. assembly) | H35: PQA / MFG | J35: yes | L35: damage | Q35: yes
C40: 3. Tab "Launch Control Plan"
C42: The Launch Control Plan contains the defined LCP-characteristics, detailed type and scope of additional inspections and exit criteria. The LCP is completed with both, the signature of the authorized TSC-Engineer and the authorized supplier quality engineer.
C44: example:
C46: No | D46: LCP-characteristic | I46: Inspection method | M46: Frequency | O46: Sample size | Q46: Exit criteria | T46: Result | X46: OK / NOK
C47: 1 | D47: contact strip molded complete | I47: visual inspection | M47: 1 | O47: 10000 | Q47: all parts OK | T47: 0 | X47: OK
C48: 2 | D48: position conductor | I48: X-ray | M48: X-ray | O48: 1 per cavity | Q48: all parts OK | T48: 0 | X48: OK
C49: 3 | D49: cleaniness | I49: visual inspection | M49: 1 | O49: 10000 | Q49: all parts OK | T49: 1 | X49: NOK
C50: 4 | D50: burrs | I50: visual inspection | M50: 1 | O50: 10000 | Q50: all parts OK | T50: 2 (failure picture OK) | X50: OK
C51: 5
C54: 4. Tab "Tracking chart"
C56: Track the quantity of non-conformities regarding LCP-characteristics and quantity of produced parts per production week. In terms of counterchecking, non-conformities / abnormalities are detected and tracked at supplier's location and at the Bosch-plant. Only fill data in the provided cells (supplier). If the supplier is entered into third party inspection (see tab procedure chapter 5), fill quantity of non-conformed parts per week in the Bosch-cells.
C58: example:
C60: No | D60: LCP-characteristic | J60: CW 13 | L60: CW 14 | N60: CW 15 | P60: CW 16 | R60: CW 17 | T60: CW 18 | V60: CW 19 | X60: CW 20
J61: Suppl. | K61: Bosch | L61: Suppl. | M61: Bosch | N61: Suppl. | O61: Bosch | P61: Suppl. | Q61: Bosch | R61: Suppl. | S61: Bosch | T61: Suppl. | U61: Bosch | V61: Suppl. | W61: Bosch | X61: Suppl. | Y61: Bosch
C62: 1 | D62: contact strip molded complete
C63: 2 | D63: position conductor
C64: 3 | D64: cleaniness | R64: 1
C65: 4 | D65: burrs | L65: 1 | P65: 1
C66: 5 | D66: =IF('03_Launch Control Plan'!E58=0,"",'03_Launch Control Plan'!E58)
C68: Quantity of produced parts per week | J68: 528 | L68: 2131 | N68: 2608 | P68: 4012 | R68: 5798 | T68: 5913 | V68: 6259 | X68: 6336
C71: 5. Tab "OPL"
C73: Record defined corrective actions for detected non-conformities / failures in the Open Point List (OPL) for documentation and monitoring.
C75: example:
...

Sheet Document Change History
A1: Process U1.3 Preventive Quality Planning/Assurance
A3: Document Change History
A5: Version | B5: Date | C5: Reference | D5: Description of Change | E5: Status | F5: Released by
A6: 1.0 | B6: 41540 | C6: CP/PPS-ST Güldener | D6: First release | E6: In work | F6: CP/PPS-ST Güldener
A7: 2.0 | B7: 42464 | C7: CP/PPS-ST Güldener | D7: T&R 526: role PQP (AS) included | E7: invalid | F7: CP/TQ
A8: 3.0 | B8: 42978 | C8: CP/PDA Güldener | D8: role PMQ included role PQP (AS) removed | E8: released | F8: GLS, PO
A9: 4.0 | B9: 44007 | C9: M/PMQ-Gueldener | D9: T&R3017 all references to limit sample deleted - reason: limit sample catalogue is defined as a separate task (including flowchart) | E9: released | F9: PO,PM
